BEGIN:VCALENDAR
VERSION:2.0
PRODID:-//ChamberMaster//Event Calendar 2.0//EN
METHOD:PUBLISH
X-PUBLISHED-TTL:P3D
REFRESH-INTERVAL:P3D
CALSCALE:GREGORIAN
BEGIN:VEVENT
DTSTART:20260423T193000Z
DTEND:20260423T213000Z
X-MICROSOFT-CDO-ALLDAYEVENT:FALSE
SUMMARY:5th Annual Job Fair
DESCRIPTION:Looking for a job or a fresh start? This is your opportunity. ??\n\nJoin us for our Tifton Job Fair featuring 40+ local businesses ready to hire!\n\nApril 23\, 2026\n\n3:30 PM   5:30 PM\n\n401 Victory Drive N\, Tifton\, GA\n\nWhat to expect:\n\n\n	Meet 40+ employers in one place\n	Hand your resume directly to hiring companies\n	On-the-spot interviews may take place\n\n\nWalk-ins welcome\n\n Spanish-speaking recruiters available\n\nCome prepared:\n\n\n	Bring an updated resume\n	Dress ready to interview\n\n\nQuestions? Call 229-386-8689\n\nWalk in. Make connections. Get hired.
X-ALT-DESC;FMTTYPE=text/html:<p><strong>Looking for a job or a fresh start? This is your opportunity. ??</strong></p>\n\n<p>Join us for our <strong>Tifton Job Fair</strong>&mdash\;featuring <strong>40+ local businesses ready to hire!</strong></p>\n\n<p><strong>April 23\, 2026</strong><br />\n<strong>3:30 PM &ndash\; 5:30 PM</strong><br />\n<strong>401 Victory Drive N\, Tifton\, GA</strong></p>\n\n<p><strong>What to expect:</strong></p>\n\n<ul>\n	<li>Meet <strong>40+ employers</strong> in one place</li>\n	<li>Hand your resume directly to hiring companies</li>\n	<li><strong>On-the-spot interviews may take place</strong></li>\n</ul>\n\n<p>Walk-ins welcome<br />\n&nbsp\;Spanish-speaking recruiters available</p>\n\n<p><strong>Come prepared:</strong></p>\n\n<ul>\n	<li>Bring an updated resume</li>\n	<li>Dress ready to interview</li>\n</ul>\n\n<p>Questions? Call <strong>229-386-8689</strong></p>\n\n<p><strong>Walk in. Make connections. Get hired.</strong></p>\n
LOCATION:401 Victory Drive N\, Tifton\, GA 31794
UID:e.3211.2071
SEQUENCE:3
DTSTAMP:20260421T172017Z
URL:http://business.thomasvillechamber.com/events/details/5th-annual-job-fair-2071
END:VEVENT

END:VCALENDAR
