BEGIN:VCALENDAR
VERSION:2.0
PRODID:-//ChamberMaster//Event Calendar 2.0//EN
METHOD:PUBLISH
X-PUBLISHED-TTL:P3D
REFRESH-INTERVAL:P3D
CALSCALE:GREGORIAN
BEGIN:VEVENT
DTSTART:20181020T130000Z
DTEND:20181020T180000Z
X-MICROSOFT-CDO-ALLDAYEVENT:FALSE
SUMMARY:15th Annual Hands on Thomas County Day
DESCRIPTION:Join us for our biggest day of service! Individuals\, families\, organizations\, clubs\, churches\, schools and businesses are invited to participate in this volunteer-a-thon at various project sites throughout Thomas County. Learn more at www.HandsOnThomasCounty.org.
X-ALT-DESC;FMTTYPE=text/html:<span style="color: rgb(53\, 58\, 68)\; font-family: Montserrat\, sans-serif\; font-size: 16px\;">Join us for our biggest day of service! Individuals\, families\, organizations\, clubs\, churches\, schools and businesses are invited to participate in this volunteer-a-thon at various project sites throughout Thomas County. Learn more at&nbsp\;</span><a href="http://www.handsonthomascounty.org/" style="box-sizing: inherit\; color: rgb(51\, 122\, 183)\; text-decoration-line: none\; font-family: Montserrat\, sans-serif\; font-size: 16px\;" target="_blank">www.HandsOnThomasCounty.org</a><span style="color: rgb(53\, 58\, 68)\; font-family: Montserrat\, sans-serif\; font-size: 16px\;">.</span>
LOCATION:120 East Monroe Street\, Thomasville\, GA\, USA
UID:e.3211.496
SEQUENCE:3
DTSTAMP:20260426T015830Z
URL:https://business.thomasvillechamber.com/events/details/15th-annual-hands-on-thomas-county-day-496
END:VEVENT

END:VCALENDAR
