BEGIN:VCALENDAR
VERSION:2.0
PRODID:-//ChamberMaster//Event Calendar 2.0//EN
METHOD:PUBLISH
X-PUBLISHED-TTL:P3D
REFRESH-INTERVAL:P3D
CALSCALE:GREGORIAN
BEGIN:VEVENT
DTSTART:20181108T220000Z
DTEND:20181109T020000Z
X-MICROSOFT-CDO-ALLDAYEVENT:FALSE
SUMMARY:2018 Community Impact Awards
DESCRIPTION:The Thomasville-Thomas County Chamber of Commerce seeks to recognize businesses and/or individuals that have made a significant impact in the community over the past year. Nominations should be made based on criteria listed under each category. Only complete nomination forms will be reviewed. There will only be 3 final nominees per award and only complete nomination forms will be reviewed. Winners will be voted on by the Chamber membership in October and announced at the awards dinner in November.
X-ALT-DESC;FMTTYPE=text/html:The Thomasville-Thomas County Chamber of Commerce seeks to recognize businesses and/or individuals that have made a significant impact in the community over the past year. Nominations should be made based on criteria listed under each category. Only complete nomination forms will be reviewed. There will only be 3&nbsp\;final nominees per award and only complete nomination forms will be reviewed.&nbsp\;Winners will be voted on by the Chamber membership in October and announced at the awards dinner in November.&nbsp\;
LOCATION:Glen Arven Country Club 1700 Old Monticello Road Thomasville\, Ga 31792
UID:e.3211.348
SEQUENCE:3
DTSTAMP:20260426T014609Z
URL:https://business.thomasvillechamber.com/events/details/2018-community-impact-awards-348
END:VEVENT

END:VCALENDAR
