BEGIN:VCALENDAR
VERSION:2.0
PRODID:-//ChamberMaster//Event Calendar 2.0//EN
METHOD:PUBLISH
X-PUBLISHED-TTL:P3D
REFRESH-INTERVAL:P3D
CALSCALE:GREGORIAN
BEGIN:VEVENT
DTSTART:20221103T220000Z
DTEND:20221104T010000Z
X-MICROSOFT-CDO-ALLDAYEVENT:FALSE
SUMMARY:2022 Community Impact Awards
DESCRIPTION:The Thomasville-Thomas County Chamber of Commerce\, in partnership with Southwest Georgia Farm Credit\, seeks to recognize member businesses and/or individuals that have made a significant impact in the community over the past year.\n\n\n\nThese awards will be based upon contributions to the community\, business performance\, innovative practices\, growth of programs and the organization\, volunteer contributions to the Chamber\, civic involvement\, and leadership.\n\nNominations will open in July and close the first week of September. \n\n\n\nCategories this year include:\n\nMan of the Year\n\nWoman of the Year\n\nSmall Business of the Year\n\nLarge Business of the Year\n\nNon-Profit of the Year\n\nCovey Agriculture Award Presented by Southwest Georgia Farm Credit\n\nThe Bob "Hutch" Hutchison Legacy Award\n\n\n\nSAVE THE DATE: November 3rd\, 2022
X-ALT-DESC;FMTTYPE=text/html:The Thomasville-Thomas County Chamber of Commerce\, in partnership with Southwest Georgia Farm Credit\, seeks to recognize member businesses and/or individuals that have made a significant impact in the community over the past year.<br />\n<br />\nThese awards will be based upon contributions to the community\, business performance\, innovative practices\, growth of programs and the organization\, volunteer contributions to the Chamber\, civic involvement\, and leadership.<br />\nNominations will open in July and close the first week of September.&nbsp\;<br />\n<br />\nCategories this year include:<br />\nMan of the Year<br />\nWoman of the Year<br />\nSmall Business of the Year<br />\nLarge Business of the Year<br />\nNon-Profit of the Year<br />\nCovey Agriculture Award Presented by Southwest Georgia Farm Credit<br />\nThe Bob &ldquo\;Hutch&rdquo\; Hutchison Legacy Award<br />\n<br />\nSAVE THE DATE: November 3rd\, 2022<br />\n<br />\n&nbsp\;
LOCATION:
UID:e.3211.1019
SEQUENCE:3
DTSTAMP:20260422T120811Z
URL:https://business.thomasvillechamber.com/events/details/2022-community-impact-awards-1019
END:VEVENT

END:VCALENDAR
