BEGIN:VCALENDAR
VERSION:2.0
PRODID:-//ChamberMaster//Event Calendar 2.0//EN
METHOD:PUBLISH
X-PUBLISHED-TTL:P3D
REFRESH-INTERVAL:P3D
CALSCALE:GREGORIAN
BEGIN:VEVENT
DTSTART:20230211T220000Z
DTEND:20230212T010000Z
X-MICROSOFT-CDO-ALLDAYEVENT:FALSE
SUMMARY:2nd Annual Comedy for a Cause Fundraiser
DESCRIPTION:The Southern Regional Technical College Foundation is pleased to invite you to attend the 2nd Annual Comedy for a Cause fundraiser!\n\n \n\nWhile providing vital funding for the SRTC student scholarship program\, attendees will be treated to a night of entertainment. Comedy for a Cause will feature comedians Brian Moote and Zoltan Kaszas in a ninety-minute show\, preceded by drinks\, dinner catered by JB Crumbs\, and a presentation honoring distinguished SRTC alumni.\n\n \n\nIndividual tickets are $60 per person or $100 per couple. All guests enjoy dinner and drinks. If you are interested in a sponsorship\, please contact Christina Reneau at creneau@southernregional.edu or 229-225-4060.
X-ALT-DESC;FMTTYPE=text/html:<span style="color:#19315B\;"><span style="font-family:century gothic\,sans-serif\;"><span style="font-size:12.0pt\;">The Southern Regional Technical College Foundation is pleased to invite you to attend the 2nd Annual Comedy for a Cause fundraiser!</span></span></span><br />\n&nbsp\;<br />\n<span style="color:#19315B\;"><span style="font-family:century gothic\,sans-serif\;"><span style="font-size:12.0pt\;">While providing vital funding for the SRTC student scholarship program\, attendees will be treated to a night of entertainment. Comedy for a Cause will feature comedians Brian Moote and Zoltan Kaszas in a ninety-minute show\, preceded by drinks\, dinner catered by JB Crumbs\, and a presentation honoring distinguished SRTC alumni.</span></span></span><br />\n&nbsp\;<br />\n<span style="color:#19315B\;"><span style="font-family:century gothic\,sans-serif\;"><span style="font-size:12.0pt\;">Individual tickets are $60 per person or $100 per couple. All guests enjoy dinner and drinks. If you are interested in a sponsorship\, please contact Christina Reneau at <a href="mailto:creneau@southernregional.edu">creneau@southernregional.edu</a> or 229-225-4060. </span></span></span><br />\n&nbsp\;
LOCATION:
UID:e.3211.1028
SEQUENCE:3
DTSTAMP:20260422T082020Z
URL:https://business.thomasvillechamber.com/events/details/2nd-annual-comedy-for-a-cause-fundraiser-1028
END:VEVENT

END:VCALENDAR
