BEGIN:VCALENDAR
VERSION:2.0
PRODID:-//ChamberMaster//Event Calendar 2.0//EN
METHOD:PUBLISH
X-PUBLISHED-TTL:P3D
REFRESH-INTERVAL:P3D
CALSCALE:GREGORIAN
BEGIN:VEVENT
DTSTART:20220205T230000Z
DTEND:20220206T010000Z
X-MICROSOFT-CDO-ALLDAYEVENT:FALSE
SUMMARY:2nd Annual Talk Series - 2022 Black History Month Events
DESCRIPTION:The Jack Hadley Black History Museum is excited to announce its 2022 Black History Month Events! \n\n\n\nJoin us virtually on Zoom every weekend for a special presentation of our 2nd Annual Talk Series\, with special guest moderator\, Dr. Thomas Aiello from Valdosta State University: \n\n \n\nDate: February 5th\, 2022 @ 6:00 PM\n\nSpeaker: RADM Cedric B. Guyon\n\nAssistant Surgeon General\n\nThomas County Native\n\nTopic: Speaking on "His life and Black Health and Wellness"\n\n\n\n\n\nAll Zoom Events can be joined with the following link and Meeting ID:\n\nJoin Zoom Meeting:\n\nhttps://us02web.zoom.us/j/9338491871\n\n \n\nMeeting ID:\n\n 933 849 1871\n\n \n\nJoin us in person for the following two events: \n\n \n\n8th Annual Buffalo Soldier Heritage Festival and \n\nThomasville/Thomas County Public Safety day\n\nFeaturing Guest Speaker: \n\nDr. Daryl Crenshaw\n\nArchbold Medical Center Chief of Staff\n\n	Free Admission to the Jack Hadley Black History Museum\n	Free Hot Dogs and drinks for all sponsored by the Thomasville Police department\n	Free snacks and dessert\n	Demonstrations by the police and fire departments\n\nDate: February 19th\, 2022 \n\nTime: 10:00 AM - 2:00 PM\n\nLocation: Jack Hadley Black History Museum\n\n214 Alexander Street\, Thomasville\, Ga 31792\n\n \n\nLastly\, Join us for a special auction at Wiregrass Gallery to benefit the Imperial Hotel! \n\nLocation: Wiregrass Gallery\n\n130 E Jackson Street\n\nThomasville\, Ga 31792\n\nDate: February 26th\n\nTime: 5:00 PM to 7:00 PM\n\n \n\nFor more information\, please see the attached Flyer in the link below:\n\nhttps://mcusercontent.com/b3adc1ad4ab6a93a1e2c4d314/images/fa3d26d3-ed82-7bf9-96bb-32c2f527ee3f.png\n\n \n\nThanks\, and we hope to see you soon\, both Virtually and In-Person.
X-ALT-DESC;FMTTYPE=text/html:<span style="color:#202020\;"><span style="font-family:helvetica\,sans-serif\;"><span style="font-size:12.0pt\;">The Jack Hadley Black History Museum is excited to announce its 2022 Black History Month Events!&nbsp\;</span></span></span><br />\n<br />\n<span style="color:#202020\;"><span style="font-family:helvetica\,sans-serif\;"><span style="font-size:12.0pt\;">Join us virtually on Zoom every weekend for a special presentation of our 2nd Annual Talk Series\, with special guest moderator\, Dr. Thomas Aiello from Valdosta State University:&nbsp\;</span></span></span><br />\n&nbsp\;<br />\n<u><span style="color:#202020\;"><span style="font-family:helvetica\,sans-serif\;"><span style="font-size:12.0pt\;">Date:</span></span></span></u><span style="color:#202020\;"><span style="font-family:helvetica\,sans-serif\;"><span style="font-size:12.0pt\;"> <strong><span style="font-family:helvetica\,sans-serif\;">February 5th\, 2022 @ 6:00 PM</span></strong></span></span></span><br />\n<u><span style="color:#202020\;"><span style="font-family:helvetica\,sans-serif\;"><span style="font-size:12.0pt\;">Speaker:</span></span></span></u><strong><span style="color:#202020\;"><span style="font-family:helvetica\,sans-serif\;"><span style="font-size:12.0pt\;"> <u>RADM Cedric B. Guyon</u></span></span></span></strong><br />\n<span style="color:#202020\;"><span style="font-family:helvetica\,sans-serif\;"><span style="font-size:12.0pt\;">Assistant Surgeon General</span></span></span><br />\n<span style="color:#202020\;"><span style="font-family:helvetica\,sans-serif\;"><span style="font-size:12.0pt\;">Thomas County Native</span></span></span><br />\n<u><span style="color:#202020\;"><span style="font-family:helvetica\,sans-serif\;"><span style="font-size:12.0pt\;">Topic:</span></span></span></u> <span style="color:#202020\;"><span style="font-family:helvetica\,sans-serif\;"><span style="font-size:12.0pt\;">Speaking on &quot\;<strong><span style="font-family:helvetica\,sans-serif\;">His life and Black Health and Wellness</span></strong>&quot\;</span></span></span><br />\n<br />\n<br />\n<u><span style="color:#202020\;"><span style="font-family:helvetica\,sans-serif\;"><span style="font-size:12.0pt\;">All Zoom Events can be joined with the following link and Meeting ID:</span></span></span></u><br />\n<strong><span style="color:#202020\;"><span style="font-family:helvetica\,sans-serif\;"><span style="font-size:12.0pt\;">Join Zoom Meeting:</span></span></span></strong><br />\n<strong><span style="color:#202020\;"><span style="font-family:helvetica\,sans-serif\;"><span style="font-size:12.0pt\;"><a href="https://us02web.zoom.us/j/9338491871"><span style="font-weight:normal\;">https://us02web.zoom.us/j/9338491871</span></a></span></span></span></strong><br />\n&nbsp\;<br />\n<strong><span style="color:#202020\;"><span style="font-family:helvetica\,sans-serif\;"><span style="font-size:12.0pt\;">Meeting ID:</span></span></span></strong><br />\n<strong><span style="color:#202020\;"><span style="font-family:helvetica\,sans-serif\;"><span style="font-size:12.0pt\;">&nbsp\;933 849 1871</span></span></span></strong><br />\n&nbsp\;<br />\n<u><span style="color:#202020\;"><span style="font-family:helvetica\,sans-serif\;"><span style="font-size:12.0pt\;">Join us in person for the following two events:&nbsp\;</span></span></span></u><br />\n&nbsp\;<br />\n<strong><u><span style="color:#202020\;"><span style="font-family:helvetica\,sans-serif\;"><span style="font-size:12.0pt\;">8th Annual Buffalo Soldier Heritage Festival and&nbsp\;</span></span></span></u></strong><br />\n<strong><u><span style="color:#202020\;"><span style="font-family:helvetica\,sans-serif\;"><span style="font-size:12.0pt\;">Thomasville/Thomas County Public Safety day</span></span></span></u></strong><br />\n<span style="color:#202020\;"><span style="font-family:helvetica\,sans-serif\;"><span style="font-size:12.0pt\;">Featuring Guest Speaker:&nbsp\;</span></span></span><br />\n<span style="color:#202020\;"><span style="font-family:helvetica\,sans-serif\;"><span style="font-size:12.0pt\;">Dr. Daryl Crenshaw</span></span></span><br />\n<span style="color:#202020\;"><span style="font-family:helvetica\,sans-serif\;"><span style="font-size:12.0pt\;">Archbold Medical Center Chief of Staff</span></span></span>\n<ul>\n	<li style="color:#202020\;line-height:150%\;-ms-text-size-adjust:100%\;-webkit-text-size-adjust:100%\;"><span style="font-family:helvetica\,sans-serif\;"><span style="font-size:12.0pt\;">Free Admission to the Jack Hadley Black History Museum</span></span></li>\n	<li style="color:#202020\;line-height:150%\;-ms-text-size-adjust:100%\;-webkit-text-size-adjust:100%\;"><span style="font-family:helvetica\,sans-serif\;"><span style="font-size:12.0pt\;">Free Hot Dogs and drinks for all sponsored by the Thomasville Police department</span></span></li>\n	<li style="color:#202020\;line-height:150%\;-ms-text-size-adjust:100%\;-webkit-text-size-adjust:100%\;"><span style="font-family:helvetica\,sans-serif\;"><span style="font-size:12.0pt\;">Free snacks and dessert</span></span></li>\n	<li style="color:#202020\;line-height:150%\;-ms-text-size-adjust:100%\;-webkit-text-size-adjust:100%\;"><span style="font-family:helvetica\,sans-serif\;"><span style="font-size:12.0pt\;">Demonstrations by the police and fire departments</span></span></li>\n</ul>\n<strong><u><span style="color:#202020\;"><span style="font-family:helvetica\,sans-serif\;"><span style="font-size:12.0pt\;">Date:</span></span></span></u></strong>&nbsp\;<span style="color:#202020\;"><span style="font-family:helvetica\,sans-serif\;"><span style="font-size:12.0pt\;">February 19th\, 2022&nbsp\;</span></span></span><br />\n<strong><u><span style="color:#202020\;"><span style="font-family:helvetica\,sans-serif\;"><span style="font-size:12.0pt\;">Time:</span></span></span></u></strong>&nbsp\;<span style="color:#202020\;"><span style="font-family:helvetica\,sans-serif\;"><span style="font-size:12.0pt\;">10:00 AM - 2:00 PM</span></span></span><br />\n<strong><u><span style="color:#202020\;"><span style="font-family:helvetica\,sans-serif\;"><span style="font-size:12.0pt\;">Location</span></span></span></u></strong><strong><span style="color:#202020\;"><span style="font-family:helvetica\,sans-serif\;"><span style="font-size:12.0pt\;">:&nbsp\;</span></span></span></strong><span style="color:#202020\;"><span style="font-family:helvetica\,sans-serif\;"><span style="font-size:12.0pt\;">Jack Hadley Black History Museum</span></span></span><br />\n<span style="color:#202020\;"><span style="font-family:helvetica\,sans-serif\;"><span style="font-size:12.0pt\;">214 Alexander Street\, Thomasville\, Ga 31792</span></span></span><br />\n&nbsp\;<br />\n<strong><u><span style="color:#202020\;"><span style="font-family:helvetica\,sans-serif\;"><span style="font-size:12.0pt\;">Lastly\, Join us for a special auction at Wiregrass Gallery to benefit the Imperial Hotel!&nbsp\;</span></span></span></u></strong><br />\n<strong><u><span style="color:#202020\;"><span style="font-family:helvetica\,sans-serif\;"><span style="font-size:12.0pt\;">Location:&nbsp\;</span></span></span></u></strong><span style="color:#202020\;"><span style="font-family:helvetica\,sans-serif\;"><span style="font-size:12.0pt\;">Wiregrass Gallery</span></span></span><br />\n<span style="color:#202020\;"><span style="font-family:helvetica\,sans-serif\;"><span style="font-size:12.0pt\;">130 E Jackson Street</span></span></span><br />\n<span style="color:#202020\;"><span style="font-family:helvetica\,sans-serif\;"><span style="font-size:12.0pt\;">Thomasville\, Ga 31792</span></span></span><br />\n<strong><u><span style="color:#202020\;"><span style="font-family:helvetica\,sans-serif\;"><span style="font-size:12.0pt\;">Date:</span></span></span></u></strong>&nbsp\;<span style="color:#202020\;"><span style="font-family:helvetica\,sans-serif\;"><span style="font-size:12.0pt\;">February 26th</span></span></span><br />\n<strong><u><span style="color:#202020\;"><span style="font-family:helvetica\,sans-serif\;"><span style="font-size:12.0pt\;">Time:</span></span></span></u></strong>&nbsp\;<span style="color:#202020\;"><span style="font-family:helvetica\,sans-serif\;"><span style="font-size:12.0pt\;">5:00 PM to 7:00 PM</span></span></span><br />\n&nbsp\;<br />\n<span style="color:#202020\;"><span style="font-family:helvetica\,sans-serif\;"><span style="font-size:12.0pt\;">For more information\, please see the attached Flyer in the link below:<br />\n<a href="https://jackhadleyblackhistorymuseum.us17.list-manage.com/track/click?u=b3adc1ad4ab6a93a1e2c4d314&amp\;id=992554cba5&amp\;e=8b8677a2ec" target="_blank"><span style="color:#007C89\;">https://mcusercontent.com/b3adc1ad4ab6a93a1e2c4d314/images/fa3d26d3-ed82-7bf9-96bb-32c2f527ee3f.png</span></a></span></span></span><br />\n&nbsp\;<br />\n<span style="color:#202020\;"><span style="font-family:helvetica\,sans-serif\;"><span style="font-size:12.0pt\;">Thanks\, and we hope to see you soon\, both Virtually and In-Person.&nbsp\;</span></span></span><br />\n&nbsp\;
LOCATION:
UID:e.3211.987
SEQUENCE:3
DTSTAMP:20260423T052900Z
URL:https://business.thomasvillechamber.com/events/details/2nd-annual-talk-series-2022-black-history-month-events-987
END:VEVENT

END:VCALENDAR
