BEGIN:VCALENDAR
VERSION:2.0
PRODID:-//ChamberMaster//Event Calendar 2.0//EN
METHOD:PUBLISH
X-PUBLISHED-TTL:P3D
REFRESH-INTERVAL:P3D
CALSCALE:GREGORIAN
BEGIN:VEVENT
DTSTART:20220922T160000Z
DTEND:20220922T170000Z
X-MICROSOFT-CDO-ALLDAYEVENT:FALSE
SUMMARY:A Taste of Oak Grove
DESCRIPTION:Come and experience "A Taste of Oak Grove" and enjoy a complimentary lunch on us as we introduce one of our signature programs\, Artful Dining. Our goal is to provide a resident-centered experience like no other. Our dining experience is to be like that of a favorite restaurant with servers who know guests by name\, and cares not only about the food\, but the residents served.\n\n\n\nIf you or a loved one is interested in learning more about The Residence at Oak Grove\, we invite you to come and have "A Taste of Oak Grove" with us on Thursday\, September 22nd at 12pm.\n\n\n\nSeating is limited\, so reservations are required. Please call 229-715-7507 or email life@theresidenceatoakgrove.com for more information and to reserve your seat today!
X-ALT-DESC;FMTTYPE=text/html:<div class="l7ghb35v kjdc1dyq kmwttqpk gh25dzvf jikcssrz n3t5jt4f" style="overflow-wrap: break-word\; margin: 0.5em 0px 0px\; white-space: pre-wrap\; font-family: &quot\;Segoe UI Historic&quot\;\, &quot\;Segoe UI&quot\;\, Helvetica\, Arial\, sans-serif\; color: rgb(5\, 5\, 5)\; font-size: 15px\;">\n<div dir="auto" style="font-family: inherit\;">Come and experience &quot\;A Taste of Oak Grove&quot\; and enjoy a complimentary lunch on us as we introduce one of our signature programs\, Artful Dining. Our goal is to provide a resident-centered experience like no other. Our dining experience is to be like that of a favorite restaurant with servers who know guests by name\, and cares not only about the food\, but the residents served.</div>\n</div>\n\n<div class="l7ghb35v kjdc1dyq kmwttqpk gh25dzvf jikcssrz n3t5jt4f" style="overflow-wrap: break-word\; margin: 0.5em 0px 0px\; white-space: pre-wrap\; font-family: &quot\;Segoe UI Historic&quot\;\, &quot\;Segoe UI&quot\;\, Helvetica\, Arial\, sans-serif\; color: rgb(5\, 5\, 5)\; font-size: 15px\;">\n<div dir="auto" style="font-family: inherit\;">If you or a loved one is interested in learning more about The Residence at Oak Grove\, we invite you to come and have &quot\;A Taste of Oak Grove&quot\; with us on Thursday\, September 22nd at 12pm.</div>\n</div>\n\n<div class="l7ghb35v kjdc1dyq kmwttqpk gh25dzvf jikcssrz n3t5jt4f" style="overflow-wrap: break-word\; margin: 0.5em 0px 0px\; white-space: pre-wrap\; font-family: &quot\;Segoe UI Historic&quot\;\, &quot\;Segoe UI&quot\;\, Helvetica\, Arial\, sans-serif\; color: rgb(5\, 5\, 5)\; font-size: 15px\;">\n<div dir="auto" style="font-family: inherit\;">Seating is limited\, so reservations are required. Please call 229-715-7507 or email life@theresidenceatoakgrove.com for more information and to reserve your seat today!</div>\n</div>\n
LOCATION:
UID:e.3211.1027
SEQUENCE:3
DTSTAMP:20260422T154136Z
URL:https://business.thomasvillechamber.com/events/details/a-taste-of-oak-grove-1027
END:VEVENT

END:VCALENDAR
