BEGIN:VCALENDAR
VERSION:2.0
PRODID:-//ChamberMaster//Event Calendar 2.0//EN
METHOD:PUBLISH
X-PUBLISHED-TTL:P3D
REFRESH-INTERVAL:P3D
CALSCALE:GREGORIAN
BEGIN:VEVENT
DTSTART:20220826T150000Z
DTEND:20220826T160000Z
X-MICROSOFT-CDO-ALLDAYEVENT:FALSE
SUMMARY:Ace of Thomasville Grand Opening & Ribbon Cutting Ceremony
DESCRIPTION:Join us on Friday\, August 26th\, at 11:00 AM for the official grand opening and ribbon cutting ceremony for ACE Hardware of Thomasville!\n\n\n\n"Southern Ace Stores is an Ace Hardware retailer operating out of rural southern Georgia. For over 100 years\, our Dill's Ace Hardware location has opened its doors to the Ocilla\, GA community. Today\, we welcome a new member into our family\, Ace of Thomasville\, a new helping hand to deliver premier brands with the best service to the Thomasville\, GA community."\n\n\n\nACE OF Thomasville is more than paint\, plumbing & electric   find outdoor gear\, grills\, electric bikes\, toys and all the amazing things you've come to love at ACE. Hours of operation are Monday through Friday\, 7:30 AM-7:00 PM\; Saturdays from 8 AM to 6 PM\; and Sundays from 9AM to 5 PM. They are conveniently located at 2730 E Pinetree Blvd\, Thomasville\, GA\, 31792 and can be reached at (229) 516-8590 or you can shop online at www.acehardware.com.
X-ALT-DESC;FMTTYPE=text/html:Join us on Friday\, August 26th\, at 11:00 AM for the official grand opening and ribbon cutting ceremony for ACE Hardware of Thomasville!<br />\n<br />\n&ldquo\;Southern Ace Stores is an Ace Hardware retailer operating out of rural southern Georgia. For over 100 years\, our Dill&rsquo\;s Ace Hardware location has opened its doors to the Ocilla\, GA community. Today\, we welcome a new member into our family\, Ace of Thomasville\, a new helping hand to deliver premier brands with the best service to the Thomasville\, GA community.&rdquo\;<br />\n<br />\nACE OF Thomasville is more than paint\, plumbing &amp\; electric &ndash\; find outdoor gear\, grills\, electric bikes\, toys and all the amazing things you&#39\;ve come to love at ACE. Hours of operation are Monday through Friday\, 7:30 AM-7:00 PM\; Saturdays from 8 AM to 6 PM\; and Sundays from 9AM to 5 PM. They are conveniently located at 2730 E Pinetree Blvd\, Thomasville\, GA\, 31792 and can be reached at (229) 516-8590 or you can shop online at www.acehardware.com.&nbsp\;
LOCATION:2730 E Pinetree Blvd\, Thomasville\, GA\, 31792
UID:e.3211.1020
SEQUENCE:3
DTSTAMP:20260422T184109Z
URL:https://business.thomasvillechamber.com/events/details/ace-of-thomasville-grand-opening-ribbon-cutting-ceremony-1020
END:VEVENT

END:VCALENDAR
