BEGIN:VCALENDAR
VERSION:2.0
PRODID:-//ChamberMaster//Event Calendar 2.0//EN
METHOD:PUBLISH
X-PUBLISHED-TTL:P3D
REFRESH-INTERVAL:P3D
CALSCALE:GREGORIAN
BEGIN:VEVENT
DTSTART:20220421T200000Z
DTEND:20220421T220000Z
X-MICROSOFT-CDO-ALLDAYEVENT:FALSE
SUMMARY:Adele Creative Chamber Connects
DESCRIPTION:April Chamber Connects is here and we are excited to share that our host this month will be Adele Creative! \n\n\n\nAdele Creative was founded in 2013 and has grown year after year in marketing\, website design\, social media\, branding\, print design and creative direction. Headquartered in Downtown Thomasville\, GA\, Adele Creative serves a number of local market leaders as well as regional and national brands.     \n\n\n\nWe hope you will join us on April 21st\, as they will have light bites\, drinks\, door prizes\, and will be hosting tours of the Creative Covey next door. You don't want to miss this!!\n\n\n \n\n\n\nWebsite: www.adelecreative.com
X-ALT-DESC;FMTTYPE=text/html:<div class="_1mf _1mj" data-offset-key="1smbj-0-0" style="position: relative\; direction: ltr\;"><span style="font-size:18px\;"><span data-offset-key="1smbj-0-0">April Chamber Connects is here and we are excited to share that our host this month will be Adele Creative! </span><br />\n<br />\n<span data-offset-key="dedj6-0-0">Adele Creative was founded in 2013 and has grown year after year in marketing\, website design\, social media\, branding\, print design and creative direction. Headquartered in Downtown Thomasville\, GA\, Adele Creative serves a number of local market leaders as well as regional and national brands.&#8291\;&#8291\;&#8291\;&#8291\; </span><br />\n<br />\n<span data-offset-key="dq7tv-0-0">We hope you will join us on April 21st\, as they will have light bites\, drinks\, door prizes\, and will be hosting tours of the Creative Covey next door. You don&#39\;t want to miss this!!</span></span></div>\n\n<div data-block="true" data-editor="996k5" data-offset-key="60umm-0-0" style="color: rgba(0\, 0\, 0\, 0.85)\; font-family: Roboto\, Arial\, sans-serif\; font-size: 14px\; white-space: pre-wrap\;">\n<div class="_1mf _1mj" data-offset-key="60umm-0-0" style="position: relative\; direction: ltr\;">&nbsp\;</div>\n</div>\n\n<div data-block="true" data-editor="996k5" data-offset-key="a9tjl-0-0" style="color: rgba(0\, 0\, 0\, 0.85)\; font-family: Roboto\, Arial\, sans-serif\; font-size: 14px\; white-space: pre-wrap\;">\n<div class="_1mf _1mj" data-offset-key="a9tjl-0-0" style="position: relative\; direction: ltr\;"><span style="font-size:18px\;"><span data-offset-key="a9tjl-0-0">Website: www.adelecreative.com</span></span><br />\n&nbsp\;</div>\n</div>\n
LOCATION:207 W Jackson St. Thomasville\, GA 31792
UID:e.3211.1006
SEQUENCE:3
DTSTAMP:20260423T014559Z
URL:https://business.thomasvillechamber.com/events/details/adele-creative-chamber-connects-1006
END:VEVENT

END:VCALENDAR
