BEGIN:VCALENDAR
VERSION:2.0
PRODID:-//ChamberMaster//Event Calendar 2.0//EN
METHOD:PUBLISH
X-PUBLISHED-TTL:P3D
REFRESH-INTERVAL:P3D
CALSCALE:GREGORIAN
BEGIN:VEVENT
DTSTART:20220915T140000Z
DTEND:20220915T180000Z
X-MICROSOFT-CDO-ALLDAYEVENT:FALSE
SUMMARY:All Ways Caring Hiring Event
DESCRIPTION:All Ways Caring is excited to be hosting our nationwide Job Fair\, in Thomasville\, GA on Thursday\, September 15 from 10 AM-2 PM.\n\n\n\nWe are excited to help those in our communities live their best lives while helping our clients do the same. Join us at one of our many hiring events where you may interview on the spot and walk out with a potential conditional job offer!\n\n\n\nSome great perks include:\n\n\n	Competitive pay\n	Flexible hours\n	Good benefits\n	Daily Pay   get paid when you want!\n	Career advancement opportunities\n	Campus partnerships - tuition assistance\n\n\n\n\n\n\nTo see a list of openings\, please click the link below! www.allwayscaring.com/Careers
X-ALT-DESC;FMTTYPE=text/html:<div class="m8h3af8h l7ghb35v kjdc1dyq kmwttqpk gh25dzvf n3t5jt4f" style="overflow-wrap: break-word\; margin: 0px\; white-space: pre-wrap\; font-family: &quot\;Segoe UI Historic&quot\;\, &quot\;Segoe UI&quot\;\, Helvetica\, Arial\, sans-serif\; color: rgb(5\, 5\, 5)\; font-size: 15px\;">\n<div dir="auto" style="font-family: inherit\;">All Ways Caring is excited to be hosting our nationwide Job Fair\, in Thomasville\, GA on Thursday\, September 15 from 10 AM-2 PM.</div>\n</div>\n\n<div class="l7ghb35v kjdc1dyq kmwttqpk gh25dzvf jikcssrz n3t5jt4f" style="overflow-wrap: break-word\; margin: 0.5em 0px 0px\; white-space: pre-wrap\; font-family: &quot\;Segoe UI Historic&quot\;\, &quot\;Segoe UI&quot\;\, Helvetica\, Arial\, sans-serif\; color: rgb(5\, 5\, 5)\; font-size: 15px\;">\n<div dir="auto" style="font-family: inherit\;">We are excited to help those in our communities live their best lives while helping our clients do the same. Join us at one of our many hiring events where you may interview on the spot and walk out with a potential conditional job offer!</div>\n</div>\n\n<div class="l7ghb35v kjdc1dyq kmwttqpk gh25dzvf jikcssrz n3t5jt4f" style="overflow-wrap: break-word\; margin: 0.5em 0px 0px\; white-space: pre-wrap\; font-family: &quot\;Segoe UI Historic&quot\;\, &quot\;Segoe UI&quot\;\, Helvetica\, Arial\, sans-serif\; color: rgb(5\, 5\, 5)\; font-size: 15px\;">\n<div dir="auto" style="font-family: inherit\;">Some great perks include:</div>\n\n<ul dir="ltr">\n	<li style="font-family: inherit\;">Competitive pay</li>\n	<li style="font-family: inherit\;">Flexible hours</li>\n	<li style="font-family: inherit\;">Good benefits</li>\n	<li style="font-family: inherit\;">Daily Pay &ndash\; get paid when you want!</li>\n	<li style="font-family: inherit\;">Career advancement opportunities</li>\n	<li style="font-family: inherit\;">Campus partnerships - tuition assistance</li>\n</ul>\n</div>\n\n<div class="l7ghb35v kjdc1dyq kmwttqpk gh25dzvf jikcssrz n3t5jt4f" style="overflow-wrap: break-word\; margin: 0.5em 0px 0px\; white-space: pre-wrap\; font-family: &quot\;Segoe UI Historic&quot\;\, &quot\;Segoe UI&quot\;\, Helvetica\, Arial\, sans-serif\; color: rgb(5\, 5\, 5)\; font-size: 15px\;">\n<div dir="auto" style="font-family: inherit\;"><br />\nTo see a list of openings\, please click the link below! <span style="font-family: inherit\;"><a class="qi72231t nu7423ey n3hqoq4p r86q59rh b3qcqh3k fq87ekyn bdao358l fsf7x5fv rse6dlih s5oniofx m8h3af8h l7ghb35v kjdc1dyq kmwttqpk srn514ro oxkhqvkx rl78xhln nch0832m cr00lzj9 rn8ck1ys s3jn8y49 icdlwmnq cxfqmxzd ezidihy3" href="http://www.allwayscaring.com/Careers?fbclid=IwAR33AkOmlsWSG-5e3sc9WoMarnypLXu3TXFRnmTyArM59JOwCicRJlGlyK4" rel="nofollow noopener" role="link" style="color: var(--blue-link)\; cursor: pointer\; text-decoration-line: none\; outline: none\; list-style: none\; border-width: 0px\; border-style: initial\; border-color: initial\; box-sizing: border-box\; text-align: inherit\; margin: 0px\; padding: 0px\; background-color: transparent\; -webkit-tap-highlight-color: transparent\; display: inline\; touch-action: manipulation\; font-family: inherit\;" tabindex="0" target="_blank">www.allwayscaring.com/Careers</a></span></div>\n</div>\n
LOCATION:10:00 am thru 2:00 pm 13881 Hwy 319 N Thomasville\, GA 31757 229-227-1485
UID:e.3211.1032
SEQUENCE:3
DTSTAMP:20260422T153917Z
URL:https://business.thomasvillechamber.com/events/details/all-ways-caring-hiring-event-1032
END:VEVENT

END:VCALENDAR
