BEGIN:VCALENDAR
VERSION:2.0
PRODID:-//ChamberMaster//Event Calendar 2.0//EN
METHOD:PUBLISH
X-PUBLISHED-TTL:P3D
REFRESH-INTERVAL:P3D
CALSCALE:GREGORIAN
BEGIN:VEVENT
DTSTART:20220209T140000Z
DTEND:20220209T230000Z
X-MICROSOFT-CDO-ALLDAYEVENT:FALSE
SUMMARY:All Ways Caring Job Fair
DESCRIPTION:Immediate interviews On-site\, conditional job offers Flexible hours with great pay Set your own pay day*
X-ALT-DESC;FMTTYPE=text/html:Immediate interviews On-site\, conditional job offers Flexible hours with great pay Set your own pay day*
LOCATION:All Ways Caring HomeCare 13881 U.S. Highway 319 North Thomasville\, Georgia 31757
UID:e.3211.991
SEQUENCE:3
DTSTAMP:20260423T052717Z
URL:https://business.thomasvillechamber.com/events/details/all-ways-caring-job-fair-991
END:VEVENT

END:VCALENDAR
