BEGIN:VCALENDAR
VERSION:2.0
PRODID:-//ChamberMaster//Event Calendar 2.0//EN
METHOD:PUBLISH
X-PUBLISHED-TTL:P3D
REFRESH-INTERVAL:P3D
CALSCALE:GREGORIAN
BEGIN:VEVENT
DTSTART:20220406T140000Z
DTEND:20220406T143000Z
X-MICROSOFT-CDO-ALLDAYEVENT:FALSE
SUMMARY:Ankle & Foot Ribbon Cutting Ceremony
DESCRIPTION:Please join us on Wednesday\, April 6th at 10 AM at Ankle & Foot Associates for a ribbon cutting ceremony at 511 Gordon Avenue.\n\n\n\nMore about Ankle & Foot Associates:\n\n\n\nAnkle & Foot Associates\, LLC welcomes Dr. Brian Farrell to our team. Dr. Farrell will begin seeing patients at our new Thomasville location in August 2021. He is Board Qualified by the American Board of Foot and Ankle Surgery and is a member of the American College of Foot and Ankle Surgeons. Dr. Farrell graduated from Creighton University in Omaha\, Nebraska\, and received his doctorate from the William M. Scholl College of Podiatric Medicine at Rosalind Franklin University of Medicine and Science in North Chicago\, Illinois.\n\n\n\nDr. Brian Farrell completed his residency at Virginia Tech Carilion School of Medicine\, at Carilion Clinic\, Roanoke\, Virginia\, where he received extensive reconstructive rearfoot and ankle training and also served as Chief Resident during his final year of residency. In addition to foot and ankle reconstruction\, his professional interests include limb salvage\, trauma\, and wound care. \n\n\n\nDr. Farrell enjoys running\, traveling\, hiking\, and playing golf when he is not in the operating room. He is excited to join Ankle & Foot Associates\, LLC\, and looks forward to serving the community of Thomasville. \n\n\n\nWebsite: www.anklesandfeet.com
X-ALT-DESC;FMTTYPE=text/html:Please join us on Wednesday\, April 6th at 10 AM at Ankle &amp\; Foot Associates for a ribbon cutting ceremony at 511 Gordon Avenue.<br />\n<br />\nMore about Ankle &amp\; Foot Associates:<br />\n<br />\nAnkle &amp\; Foot Associates\, LLC welcomes Dr. Brian Farrell to our team. Dr. Farrell will begin seeing patients at our new Thomasville location in August 2021. He is Board Qualified by the American Board of Foot and Ankle Surgery and is a member of the American College of Foot and Ankle Surgeons. Dr. Farrell graduated from Creighton University in Omaha\, Nebraska\, and received his doctorate from the William M. Scholl College of Podiatric Medicine at Rosalind Franklin University of Medicine and Science in North Chicago\, Illinois.<br />\n<br />\nDr. Brian Farrell completed his residency at Virginia Tech Carilion School of Medicine\, at Carilion Clinic\, Roanoke\, Virginia\, where he received extensive reconstructive rearfoot and ankle training and also served as Chief Resident during his final year of residency. In addition to foot and ankle reconstruction\, his professional interests include limb salvage\, trauma\, and wound care.&nbsp\;<br />\n<br />\nDr. Farrell enjoys running\, traveling\, hiking\, and playing golf when he is not in the operating room. He is excited to join Ankle &amp\; Foot Associates\, LLC\, and looks forward to serving the community of Thomasville.&nbsp\;<br />\n<br />\nWebsite: www.anklesandfeet.com
LOCATION:
UID:e.3211.1004
SEQUENCE:3
DTSTAMP:20260423T014800Z
URL:https://business.thomasvillechamber.com/events/details/ankle-foot-ribbon-cutting-ceremony-1004
END:VEVENT

END:VCALENDAR
