BEGIN:VCALENDAR
VERSION:2.0
PRODID:-//ChamberMaster//Event Calendar 2.0//EN
METHOD:PUBLISH
X-PUBLISHED-TTL:P3D
REFRESH-INTERVAL:P3D
CALSCALE:GREGORIAN
BEGIN:VEVENT
DTSTART:20220412T140000Z
DTEND:20220412T150000Z
X-MICROSOFT-CDO-ALLDAYEVENT:FALSE
SUMMARY:Ashley HomeStore Goundbreaking Ceremony
DESCRIPTION:Join us next Tuesday\, April 12th at 10:00 AM at Red Hills Business Park for the official ground breaking ceremony for this beautiful 150\,000 square foot facility\, providing $20 million in investment and 95 jobs. \n\n\n\n \n\n\n\nEvent page: https://fb.me/e/1RvP6ROuT\n\n\n\n \n\n\n\n#ConnectingBusiness #BuildingCommunity #imaginethomasville
X-ALT-DESC;FMTTYPE=text/html:<div data-block="true" data-editor="78ld7" data-offset-key="3ka4d-0-0" style="color: rgb(28\, 43\, 51)\; font-family: -apple-system\, BlinkMacSystemFont\, &quot\;Segoe UI&quot\;\, Roboto\, Helvetica\, Arial\, sans-serif\, &quot\;Apple Color Emoji&quot\;\, &quot\;Segoe UI Emoji&quot\;\, &quot\;Segoe UI Symbol&quot\;\; font-size: 14px\; white-space: pre-wrap\;">\n<div class="_1mf _1mj" data-offset-key="3ka4d-0-0" style="position: relative\; direction: ltr\;"><span data-offset-key="3ka4d-0-0">Join us next Tuesday\, April 12th at 10:00 AM at Red Hills Business Park for the official ground breaking ceremony for this beautiful 150\,000 square foot facility\, providing $20 million in investment and 95 jobs. </span></div>\n</div>\n\n<div data-block="true" data-editor="78ld7" data-offset-key="3hpv3-0-0" style="color: rgb(28\, 43\, 51)\; font-family: -apple-system\, BlinkMacSystemFont\, &quot\;Segoe UI&quot\;\, Roboto\, Helvetica\, Arial\, sans-serif\, &quot\;Apple Color Emoji&quot\;\, &quot\;Segoe UI Emoji&quot\;\, &quot\;Segoe UI Symbol&quot\;\; font-size: 14px\; white-space: pre-wrap\;">\n<div class="_1mf _1mj" data-offset-key="3hpv3-0-0" style="position: relative\; direction: ltr\;">&nbsp\;</div>\n</div>\n\n<div data-block="true" data-editor="78ld7" data-offset-key="ahitr-0-0" style="color: rgb(28\, 43\, 51)\; font-family: -apple-system\, BlinkMacSystemFont\, &quot\;Segoe UI&quot\;\, Roboto\, Helvetica\, Arial\, sans-serif\, &quot\;Apple Color Emoji&quot\;\, &quot\;Segoe UI Emoji&quot\;\, &quot\;Segoe UI Symbol&quot\;\; font-size: 14px\; white-space: pre-wrap\;">\n<div class="_1mf _1mj" data-offset-key="ahitr-0-0" style="position: relative\; direction: ltr\;"><span data-offset-key="ahitr-0-0">Event page: https://fb.me/e/1RvP6ROuT</span></div>\n</div>\n\n<div data-block="true" data-editor="78ld7" data-offset-key="1fak-0-0" style="color: rgb(28\, 43\, 51)\; font-family: -apple-system\, BlinkMacSystemFont\, &quot\;Segoe UI&quot\;\, Roboto\, Helvetica\, Arial\, sans-serif\, &quot\;Apple Color Emoji&quot\;\, &quot\;Segoe UI Emoji&quot\;\, &quot\;Segoe UI Symbol&quot\;\; font-size: 14px\; white-space: pre-wrap\;">\n<div class="_1mf _1mj" data-offset-key="1fak-0-0" style="position: relative\; direction: ltr\;">&nbsp\;</div>\n</div>\n\n<div data-block="true" data-editor="78ld7" data-offset-key="6lnif-0-0" style="color: rgb(28\, 43\, 51)\; font-family: -apple-system\, BlinkMacSystemFont\, &quot\;Segoe UI&quot\;\, Roboto\, Helvetica\, Arial\, sans-serif\, &quot\;Apple Color Emoji&quot\;\, &quot\;Segoe UI Emoji&quot\;\, &quot\;Segoe UI Symbol&quot\;\; font-size: 14px\; white-space: pre-wrap\;">\n<div class="_1mf _1mj" data-offset-key="6lnif-0-0" style="position: relative\; direction: ltr\;"><span class="_5zk7" data-offset-key="6lnif-0-0" spellcheck="false" style="background-color: rgba(88\, 144\, 255\, 0.15)\; border-bottom: 1px solid rgba(88\, 144\, 255\, 0.3)\;"><span data-offset-key="6lnif-0-0">#ConnectingBusiness</span></span><span data-offset-key="6lnif-1-0"> </span><span class="_5zk7" data-offset-key="6lnif-2-0" spellcheck="false" style="background-color: rgba(88\, 144\, 255\, 0.15)\; border-bottom: 1px solid rgba(88\, 144\, 255\, 0.3)\;"><span data-offset-key="6lnif-2-0">#BuildingCommunity</span></span><span data-offset-key="6lnif-3-0"> </span><span class="_5zk7" data-offset-key="6lnif-4-0" spellcheck="false" style="background-color: rgba(88\, 144\, 255\, 0.15)\; border-bottom: 1px solid rgba(88\, 144\, 255\, 0.3)\;"><span data-offset-key="6lnif-4-0">#imaginethomasville</span></span><span data-offset-key="6lnif-5-0"> </span></div>\n</div>\n
LOCATION:14320 N US Hwy 319 Thomasville\, GA 31757
UID:e.3211.1007
SEQUENCE:3
DTSTAMP:20260423T034149Z
URL:https://business.thomasvillechamber.com/events/details/ashley-homestore-goundbreaking-ceremony-1007
END:VEVENT

END:VCALENDAR
