BEGIN:VCALENDAR
VERSION:2.0
PRODID:-//ChamberMaster//Event Calendar 2.0//EN
METHOD:PUBLISH
X-PUBLISHED-TTL:P3D
REFRESH-INTERVAL:P3D
CALSCALE:GREGORIAN
BEGIN:VEVENT
DTSTART:20240418T123000Z
DTEND:20240418T220000Z
X-MICROSOFT-CDO-ALLDAYEVENT:FALSE
SUMMARY:ATLANTA WINGS FOR ALL EVENT
DESCRIPTION:Wings for All is returning to ATL on April 18th! Join us for this exciting day to experience all the steps involved in air travel and make flying more accessible for everyone!  Registration is required   learn more and sign up here: www.thearc.org/wings     \n\n \n\nRegistration is now open for the Wings for All event at ATL on April 18th! This exciting program allows families to practice all the steps involved in air travel and board a real plane!  Seats are limited so sign up now at www.thearc.org/wings\n\n\n\n\n\nWings for All \n\nMany people with autism or intellectual/developmental disabilities (IDD) and their families have tried unsuccessfully or have not had the confidence to travel by air. The sights\, sounds and movement by thousands of people in a busy airport can be overwhelming. Wings for All \, a national initiative of The Arc US\, gives people with autism or other disabilities and their families the opportunity to participate in an airport rehearsal program to help them feel more comfortable with air travel.\n\nSponsor a Wings event\n\nThe ATL Wings for All (Wings) event brings together people with autism and other disabilities\, their families\, and employees and volunteers from our local partners\, the airport\, airlines\, and TSA. When you sponsor a Wings event\, you can connect with a broad and loyal consumer segment and promote your product or services for your community. \n\nBenefits to Your Organization\n\n	Sponsors receive a vendor table at the luncheon reception with families to display information about org\, services\, provide giveaways\, etc. \n	Logo will be displayed on event sign at the airport \n	Expanding or establishing a new customer base and positive association with the disability community \n	Goodwill from individuals who value businesses who are good corporate citizens and give back to their community\n\nThe ATL Wings for All event takes place on Thursday\, April 18th.  Sponsors will need to be at the airport at 8:30am to be cleared through security and set up their table.  All sponsors need to register online so that they can be vetted through security.  \n\nSponsors tables for the ATL Wings event are $100.\n\n \nParticipants: https://fs30.formsite.com/wingsforautism/wlgokbedjm/index\n\n \n\nVolunteers: https://fs30.formsite.com/wingsforautism/ckucrcslum/index\n\n \n\nVendors: https://fs30.formsite.com/wingsforautism/pqxumnayd6/index
X-ALT-DESC;FMTTYPE=text/html:<span style="font-size:12.0pt">Wings for All is returning to ATL on April 18<sup>th</sup>! Join us for this exciting day to experience all the steps involved in air travel and make flying more accessible for everyone!&nbsp\; Registration is required &ndash\; learn more and sign up here: </span><a href="http://www.thearc.org/wings"><span style="color:windowtext"><span style="font-size:12.0pt">www.thearc.org/wings</span></span></a>&nbsp\;&nbsp\;&nbsp\;&nbsp\;&nbsp\;<br />\n&nbsp\;<br />\n<span style="font-size:12.0pt">Registration is now open for the Wings for All event at ATL on April 18<sup>th</sup>! This exciting program allows families to practice all the steps involved in air travel and board a real plane!&nbsp\; Seats are limited so sign up now at </span><a href="http://www.thearc.org/wings"><span style="color:windowtext"><span style="font-size:12.0pt">www.thearc.org/wings</span></span></a><br />\n<br />\n<br />\n<strong><span style="color:#E97132"><span style="font-size:16.0pt">Wings for All&reg\;</span></span></strong><br />\n<span style="font-size:11.0pt">Many people with autism or intellectual/developmental disabilities (IDD) and their families have tried unsuccessfully or have not had the confidence to travel by air. The sights\, sounds and movement by thousands of people in a busy airport can be overwhelming. Wings for All&reg\;\, a national initiative of The Arc US\, gives people with autism or other disabilities and their families the opportunity to participate in an airport rehearsal program to help them feel more comfortable with air travel.</span><br />\n<strong><span style="color:#E97132"><span style="font-size:16.0pt">Sponsor a</span></span></strong><span style="color:#E97132"><span style="font-size:16.0pt"> <strong>Wings event</strong></span></span><br />\n<span style="font-size:11.0pt">The ATL Wings for All (Wings) event brings together people with autism and other disabilities\, their families\, and employees and volunteers from our local partners\, the airport\, airlines\, and TSA. When you sponsor a Wings event\, you can connect with a broad and loyal consumer segment and promote your product or services for your community. </span><br />\n<strong><span style="color:#E97132"><span style="font-size:16.0pt">Benefits to Your Organization</span></span></strong>\n<ul>\n	<li><span style="font-size:11.0pt">Sponsors receive a vendor table at the luncheon reception with families to display information about org\, services\, provide giveaways\, etc. </span></li>\n	<li><span style="font-size:11.0pt">Logo will be displayed on event sign at the airport </span></li>\n	<li><span style="font-size:11.0pt">Expanding or establishing a new customer base and positive association with the disability community </span></li>\n	<li><span style="font-size:11.0pt">Goodwill from individuals who value businesses who are good corporate citizens and give back to their community</span></li>\n</ul>\n<span style="font-size:11.0pt">The ATL Wings for All event takes place on <strong>Thursday\, April 18<sup>th</sup>.</strong>&nbsp\; Sponsors will need to be at the airport at 8:30am to be cleared through security and set up their table.&nbsp\; All sponsors need to register online so that they can be vetted through security.&nbsp\; </span><br />\n<span style="font-size:11.0pt">Sponsors tables for the ATL Wings event are $100.</span><br />\n&nbsp\;\n<p><strong><span style="font-family:calibri\,sans-serif\; font-size:11.0pt">Participants:</span></strong><span style="font-family:calibri\,sans-serif\; font-size:11.0pt"> <a href="https://nam12.safelinks.protection.outlook.com/?url=https%3A%2F%2Ffs30.formsite.com%2Fwingsforautism%2Fwlgokbedjm%2Findex&amp\;data=05%7C02%7Ckford%40swgaboh.org%7Cb407d567d3a0479d4a9d08dc3d444a1b%7C710fedfb51f44a2a82121a031b8ab269%7C0%7C0%7C638452610749630410%7CUnknown%7CTWFpbGZsb3d8eyJWIjoiMC4wLjAwMDAiLCJQIjoiV2luMzIiLCJBTiI6Ik1haWwiLCJXVCI6Mn0%3D%7C0%7C%7C%7C&amp\;sdata=tuHNiz4cxKNpqKPnEhE76scl7UPBQp%2BMcFdSQUGkihg%3D&amp\;reserved=0">https://fs30.formsite.com/wingsforautism/wlgokbedjm/index</a></span></p>\n\n<p><span style="font-family:calibri\,sans-serif\; font-size:11.0pt">&nbsp\;</span></p>\n\n<p><strong><span style="font-family:calibri\,sans-serif\; font-size:11.0pt">Volunteers:</span></strong><span style="font-family:calibri\,sans-serif\; font-size:11.0pt"> <a href="https://nam12.safelinks.protection.outlook.com/?url=https%3A%2F%2Ffs30.formsite.com%2Fwingsforautism%2Fckucrcslum%2Findex&amp\;data=05%7C02%7Ckford%40swgaboh.org%7Cb407d567d3a0479d4a9d08dc3d444a1b%7C710fedfb51f44a2a82121a031b8ab269%7C0%7C0%7C638452610749635012%7CUnknown%7CTWFpbGZsb3d8eyJWIjoiMC4wLjAwMDAiLCJQIjoiV2luMzIiLCJBTiI6Ik1haWwiLCJXVCI6Mn0%3D%7C0%7C%7C%7C&amp\;sdata=12Ys%2FdSgC4AAzpS5s5RiAiNfFtLUHzl5f8bV4fVEDvo%3D&amp\;reserved=0">https://fs30.formsite.com/wingsforautism/ckucrcslum/index</a></span></p>\n\n<p><span style="font-family:calibri\,sans-serif\; font-size:11.0pt">&nbsp\;</span></p>\n\n<p><strong><span style="font-family:calibri\,sans-serif\; font-size:11.0pt">Vendors: </span></strong><span style="font-family:calibri\,sans-serif\; font-size:11.0pt"><a href="https://nam12.safelinks.protection.outlook.com/?url=https%3A%2F%2Ffs30.formsite.com%2Fwingsforautism%2Fpqxumnayd6%2Findex&amp\;data=05%7C02%7Ckford%40swgaboh.org%7Cb407d567d3a0479d4a9d08dc3d444a1b%7C710fedfb51f44a2a82121a031b8ab269%7C0%7C0%7C638452610749639422%7CUnknown%7CTWFpbGZsb3d8eyJWIjoiMC4wLjAwMDAiLCJQIjoiV2luMzIiLCJBTiI6Ik1haWwiLCJXVCI6Mn0%3D%7C0%7C%7C%7C&amp\;sdata=pduSUfVglT8p0nb9d1YB4w2x2Z9lvbZkOrxJQU4wuqM%3D&amp\;reserved=0">https://fs30.formsite.com/wingsforautism/pqxumnayd6/index</a></span></p>\n\n<p><span style="font-family:calibri\,sans-serif\; font-size:11.0pt">&nbsp\;</span></p>\n<span style="font-size:11.0pt"> </span><br />\n&nbsp\;
LOCATION:ATLANTA\, GA.- AIRPORT
UID:e.3211.1694
SEQUENCE:3
DTSTAMP:20260421T085152Z
URL:https://business.thomasvillechamber.com/events/details/atlanta-wings-for-all-event-1694
END:VEVENT

END:VCALENDAR
