BEGIN:VCALENDAR
VERSION:2.0
PRODID:-//ChamberMaster//Event Calendar 2.0//EN
METHOD:PUBLISH
X-PUBLISHED-TTL:P3D
REFRESH-INTERVAL:P3D
CALSCALE:GREGORIAN
BEGIN:VEVENT
DTSTART:20221202T153000Z
DTEND:20221202T170000Z
X-MICROSOFT-CDO-ALLDAYEVENT:FALSE
SUMMARY:Better Homes and Gardens Historic Ribbon Cutting
DESCRIPTION:Better Homes and Garden Historic will be holding a ribbon cutting for their new office! There will be food and fun!
X-ALT-DESC;FMTTYPE=text/html:<font face="Avenir Book"><span style="font-size: 16px\;"><b>Better Homes and Garden Historic will be holding a ribbon cutting for their new office! There will be food and fun!</b></span></font>
LOCATION:218-A Jackson St. Thomasville\, GA 31792
UID:e.3211.1662
SEQUENCE:3
DTSTAMP:20260422T103843Z
URL:https://business.thomasvillechamber.com/events/details/better-homes-and-gardens-historic-ribbon-cutting-1662
END:VEVENT

END:VCALENDAR
