BEGIN:VCALENDAR
VERSION:2.0
PRODID:-//ChamberMaster//Event Calendar 2.0//EN
METHOD:PUBLISH
X-PUBLISHED-TTL:P3D
REFRESH-INTERVAL:P3D
CALSCALE:GREGORIAN
BEGIN:VEVENT
DTSTART:20221106T210000Z
DTEND:20221106T223000Z
X-MICROSOFT-CDO-ALLDAYEVENT:FALSE
SUMMARY:Blue Holler band to perform bluegrass in concert at TU
DESCRIPTION:The award-winning bluegrass band Blue Holler will bring its music to the front lawn of Thomas University?s Forbes Campus at 4 p.m. Sunday\, Nov. 6. The performance is part of the Sundays at Four series presented by Arts for the Community at Thomas University (ACTU).\n\nThe members of Blue Holler began performing together in 2004 with their unique mixture of traditional\, contemporary\, jazz-influenced and gospel bluegrass music. Traditional bluegrass artists Earl Scruggs\, Bill Monroe\, Jimmy Martin and Tony Rice provide the foundation of Blue Holler?s sound. Other artists ? including John Hartford\, Kenny Smith\, Etta James and Lonesome River Band ? also influence their music. Blue Holler performs regularly throughout Georgia\, Florida and Alabama with their instrumentals and family-style harmonies.
X-ALT-DESC;FMTTYPE=text/html:The award-winning bluegrass band Blue Holler will bring its music to the front lawn of Thomas University?s Forbes Campus at 4 p.m. Sunday\, Nov. 6. The performance is part of the Sundays at Four series presented by Arts for the Community at Thomas University (ACTU).\n\nThe members of Blue Holler began performing together in 2004 with their unique mixture of traditional\, contemporary\, jazz-influenced and gospel bluegrass music. Traditional bluegrass artists Earl Scruggs\, Bill Monroe\, Jimmy Martin and Tony Rice provide the foundation of Blue Holler?s sound. Other artists ? including John Hartford\, Kenny Smith\, Etta James and Lonesome River Band ? also influence their music. Blue Holler performs regularly throughout Georgia\, Florida and Alabama with their instrumentals and family-style harmonies.
LOCATION:Thomas University Forbes Campus\, 1501 Millpond Road\, Thomasville
UID:e.3211.1651
SEQUENCE:3
DTSTAMP:20260422T121248Z
URL:https://business.thomasvillechamber.com/events/details/blue-holler-band-to-perform-bluegrass-in-concert-at-tu-1651
END:VEVENT

END:VCALENDAR
