BEGIN:VCALENDAR
VERSION:2.0
PRODID:-//ChamberMaster//Event Calendar 2.0//EN
METHOD:PUBLISH
X-PUBLISHED-TTL:P3D
REFRESH-INTERVAL:P3D
CALSCALE:GREGORIAN
BEGIN:VEVENT
DTSTART:20230921T150000Z
DTEND:20230921T160000Z
X-MICROSOFT-CDO-ALLDAYEVENT:FALSE
SUMMARY:Bobby Dollar Appliance Consultants 40th Anniversary
DESCRIPTION:
X-ALT-DESC;FMTTYPE=text/html:
LOCATION:
UID:e.3211.1677
SEQUENCE:3
DTSTAMP:20260421T192501Z
URL:https://business.thomasvillechamber.com/events/details/bobby-dollar-appliance-consultants-40th-anniversary-1677
END:VEVENT

END:VCALENDAR
