BEGIN:VCALENDAR
VERSION:2.0
PRODID:-//ChamberMaster//Event Calendar 2.0//EN
METHOD:PUBLISH
X-PUBLISHED-TTL:P3D
REFRESH-INTERVAL:P3D
CALSCALE:GREGORIAN
BEGIN:VEVENT
DTSTART:20221029T140000Z
DTEND:20221029T170000Z
X-MICROSOFT-CDO-ALLDAYEVENT:FALSE
SUMMARY:Boston Mini Marathon and Festival Bed Race
DESCRIPTION:Boston Mini-Marathon & Festival Bed Race   Saturday October 29\, 2022\n\nRules:\n\nBed Design\n\nBed can be constructed out of any material so be creative!\n\nBeds must fit a twin mattress and have runner handles (not exceeding 10 inches in length)\n\nA twin mattress or padding must be part of design and design must have a headboard and footboard.\n\nBeds must have 4 functional wheels (1 in each corner) making contact with road at all times. Wheels can be any size.  NO motors or mechanical assistance is allowed. No Brakes. NO Steering devices\n\nAll beds will be inspected prior to race for safety and/or mechanical issues\n\n \n\nRacing Teams\n\nRacing team consist of one rider (minimum 100 pounds) and four runners/pushers\n\nRacers must be 18 years of age or older to participate\n\n \n\nSafety\n\nAll beds racers MUST sign Waiver of Liability and acknowledgement of the Bed Race Rules and Regulations before participating in the race.\n\nAll runners/pushers should wear athletic shoes suitable for street running\n\nTwo beds will race at a time\n\nNo pulling of the bed is allowed\n\nNo sharp items\, glass or obscene items on beds. Beds will be disqualified!\n\n \n\nDuring Race\n\nBed Riders must sit or lay flat on the bed   this is NOT a surfing competition!\n\nAll runners/pushers must be in control of their bed until after crossing the finish line and comes to a complete stop.\n\nThe use of alcohol or drugs is strictly prohibited.\n\nTeams must not interfere or impede the progress of an opposing team.\n\n \n\nAwards\n\nAwards to be given:\n\nBoston Road Runner - Fastest time\n\nBoston Spirt Award   the most CREATIVE Bed Design & Theme\n\nBoston Broken Spring Award\, A.K.A. "the what were you thinking award"\n\n \n\nThrough Hope to Dream\, beds will be donated to support a children in need in the Boston area sponsored by 1915 South Ashley's Furniture.\n\nThe Carnegie Library will assist in identifying age appropriate books which will be donated to children in the Boston Area with the use of the entry fees.\n\n\n\nMake Checks payable to: \n\nBoston Community Club\n\nAttn: Bed Race\n\nP.O. Box 545\n\nBoston\, Ga 31626\n\n \n\nFor more information call: Amanda Maxwell   - 229-498-1146
X-ALT-DESC;FMTTYPE=text/html:Boston Mini-Marathon &amp\; Festival Bed Race &ndash\; Saturday October 29\, 2022<br />\n<strong><span style="color:red\;"><span style="font-size:16.0pt\;">Rules:</span></span></strong><br />\n<strong><u><span style="font-size:12.0pt\;">Bed Design</span></u></strong><br />\nBed can be constructed out of any material so be creative!<br />\nBeds must fit a twin mattress and have runner handles (not exceeding 10 inches in length)<br />\nA twin mattress or padding must be part of design and design must have a headboard and footboard.<br />\nBeds must have 4 functional wheels (1 in each corner) making contact with road at all times. Wheels can be any size. &nbsp\;NO motors or mechanical assistance is allowed. No Brakes. NO Steering devices<br />\nAll beds will be inspected prior to race for safety and/or mechanical issues<br />\n&nbsp\;<br />\n<strong><u><span style="font-size:12.0pt\;">Racing Teams</span></u></strong><br />\nRacing team consist of one rider (minimum 100 pounds) and four runners/pushers<br />\nRacers must be 18 years of age or older to participate<br />\n&nbsp\;<br />\n<strong><u><span style="font-size:12.0pt\;">Safety</span></u></strong><br />\nAll beds racers MUST sign Waiver of Liability and acknowledgement of the Bed Race Rules and Regulations before participating in the race.<br />\nAll runners/pushers should wear athletic shoes suitable for street running<br />\nTwo beds will race at a time<br />\nNo pulling of the bed is allowed<br />\nNo sharp items\, glass or obscene items on beds. Beds will be disqualified!<br />\n&nbsp\;<br />\n<strong><u><span style="font-size:12.0pt\;">During Race</span></u></strong><br />\nBed Riders must sit or lay flat on the bed &ndash\; <em>this is NOT a surfing competition!</em><br />\nAll runners/pushers must be in control of their bed until after crossing the finish line and comes to a complete stop.<br />\nThe use of alcohol or drugs is strictly prohibited.<br />\nTeams must not interfere or impede the progress of an opposing team.<br />\n&nbsp\;<br />\n<strong><u><span style="font-size:12.0pt\;">Awards</span></u></strong><br />\nAwards to be given:<br />\nBoston Road Runner - Fastest time<br />\nBoston Spirt Award &ndash\; the most CREATIVE Bed Design &amp\; Theme<br />\nBoston Broken Spring Award\, A.K.A. &ldquo\;the what were you thinking award&rdquo\;<br />\n&nbsp\;<br />\n<span style="background:white\;"><span style="color:#666666\;"><span style="font-family:roboto\;"><span style="font-size:10.5pt\;">Through Hope to Dream\, beds will be donated to support a children in need in the Boston area sponsored by 1915 South Ashley&rsquo\;s Furniture.</span></span></span></span><br />\n<span style="background:white\;"><span style="color:#666666\;"><span style="font-family:roboto\;"><span style="font-size:10.5pt\;">The Carnegie Library will assist in identifying age appropriate books which will be donated to children in the Boston Area with the use of the entry fees.</span></span></span></span><br />\n<br />\n<strong><span style="font-size:14.0pt\;">Make Checks payable to: </span></strong><br />\n<strong><span style="font-size:14.0pt\;">Boston Community Club</span></strong><br />\n<strong><span style="font-size:12.0pt\;">Attn: Bed Race</span></strong><br />\n<strong><span style="font-size:12.0pt\;">P.O. Box 545</span></strong><br />\n<strong><span style="font-size:12.0pt\;">Boston\, Ga 31626</span></strong><br />\n&nbsp\;<br />\nFor more information call: Amanda Maxwell&nbsp\;&nbsp\; - 229-498-1146<br />\n&nbsp\;
LOCATION:Boston\, GA
UID:e.3211.1009
SEQUENCE:3
DTSTAMP:20260422T153354Z
URL:https://business.thomasvillechamber.com/events/details/boston-mini-marathon-and-festival-bed-race-1009
END:VEVENT

END:VCALENDAR
