BEGIN:VCALENDAR
VERSION:2.0
PRODID:-//ChamberMaster//Event Calendar 2.0//EN
METHOD:PUBLISH
X-PUBLISHED-TTL:P3D
REFRESH-INTERVAL:P3D
CALSCALE:GREGORIAN
BEGIN:VEVENT
DTSTART:20230226T180000Z
DTEND:20230226T210000Z
X-MICROSOFT-CDO-ALLDAYEVENT:FALSE
SUMMARY:Bridal Expo
DESCRIPTION:A fun event filled with vendors from surrounding areas to help plan for your special day!
X-ALT-DESC;FMTTYPE=text/html:A fun event filled with vendors from surrounding areas to help plan for your special day!&nbsp\;
LOCATION:125 N broad Street 5th floor\, Thomasville\, GA
UID:e.3211.1667
SEQUENCE:3
DTSTAMP:20260422T064148Z
URL:https://business.thomasvillechamber.com/events/details/bridal-expo-1667
END:VEVENT

END:VCALENDAR
