BEGIN:VCALENDAR
VERSION:2.0
PRODID:-//ChamberMaster//Event Calendar 2.0//EN
METHOD:PUBLISH
X-PUBLISHED-TTL:P3D
REFRESH-INTERVAL:P3D
CALSCALE:GREGORIAN
BEGIN:VEVENT
DTSTART;VALUE=DATE:20260602
DTEND;VALUE=DATE:20260603
TRANSP:TRANSPARENT
X-MICROSOFT-CDO-ALLDAYEVENT:TRUE
SUMMARY:Camp Dawson
DESCRIPTION:Join the Thomasville History Center for our annual Camp Dawson Jr. and Camp Dawson summer programs\, offering hands-on opportunities for students to explore history in an engaging and active environment. Campers will experience our historic campus through crafts\, activities\, and interactive learning that brings the past to life.\n\nDuring camp weeks\, the Thomasville History Center will be closed to regular admission as we host these programs. Lapham-Patterson House tours will continue as scheduled and are available for booking online or at the front desk.
X-ALT-DESC;FMTTYPE=text/html:<p>Join the Thomasville History Center for our annual&nbsp\;<strong>Camp Dawson Jr. and Camp Dawson</strong>&nbsp\;summer programs\, offering hands-on opportunities for students to explore history in an engaging and active environment. Campers will experience our historic campus through crafts\, activities\, and interactive learning that brings the past to life.</p>\n\n<p>During camp weeks\, the Thomasville History Center will be closed to regular admission as we host these programs. Lapham-Patterson House tours will continue as scheduled and are available for booking online or at the front desk.</p>\n
LOCATION:Thomasville History Center 725 N. Dawson St. Thomasville\, GA 31792
UID:e.3211.2075
SEQUENCE:3
DTSTAMP:20260422T234642Z
URL:https://business.thomasvillechamber.com/events/details/camp-dawson-06-02-2026-2075
END:VEVENT

END:VCALENDAR
