BEGIN:VCALENDAR
VERSION:2.0
PRODID:-//ChamberMaster//Event Calendar 2.0//EN
METHOD:PUBLISH
X-PUBLISHED-TTL:P3D
REFRESH-INTERVAL:P3D
CALSCALE:GREGORIAN
BEGIN:VEVENT
DTSTART:20220824T140000Z
DTEND:20220824T143000Z
X-MICROSOFT-CDO-ALLDAYEVENT:FALSE
SUMMARY:Carroll’s Cabinets Groundbreaking Ceremony
DESCRIPTION:Help us celebrate the groundbreaking of Carroll's Cabinets in the Red Hills Business Park. Address: 14320 N US Hwy 319. Thomasville\, GA 31757\n\n\n\nWe are proud to construct\, fabricate\, and install the highest quality custom cabinets and granite\, quartz\, quartzite\, or marble countertops for your home or business in the South Georgia and North Florida area! Explore our portfolio and selections online and then reach out to schedule your personal design consultation.\n\n\n\nLearn More:\n\nhttps://carrollscabinetsandcounters.com/
X-ALT-DESC;FMTTYPE=text/html:<span style="font-size:14px\;"><span style="font-family:tahoma\;">Help us celebrate the groundbreaking of Carroll&rsquo\;s Cabinets in the Red Hills Business Park. Address: 14320 N US Hwy 319. Thomasville\, GA 31757<br />\n<br />\n<span style="color: rgb(94\, 94\, 94)\; text-align: center\;">We are proud to construct\, fabricate\, and install the highest quality custom cabinets and granite\, quartz\, quartzite\, or marble countertops for your home or business in the South Georgia and North Florida area! Explore our portfolio and selections online and then reach out to schedule your personal design consultation.<br />\n<br />\nLearn More:</span></span></span><br />\nhttps://carrollscabinetsandcounters.com/
LOCATION:
UID:e.3211.1024
SEQUENCE:3
DTSTAMP:20260422T183821Z
URL:https://business.thomasvillechamber.com/events/details/carroll-s-cabinets-groundbreaking-ceremony-1024
END:VEVENT

END:VCALENDAR
