BEGIN:VCALENDAR
VERSION:2.0
PRODID:-//ChamberMaster//Event Calendar 2.0//EN
METHOD:PUBLISH
X-PUBLISHED-TTL:P3D
REFRESH-INTERVAL:P3D
CALSCALE:GREGORIAN
BEGIN:VEVENT
DTSTART:20210624T200000Z
DTEND:20210624T220000Z
X-MICROSOFT-CDO-ALLDAYEVENT:FALSE
SUMMARY:Chamber Connects @4
DESCRIPTION:Previously known as Cocktails and Commerce\, Chamber Connects is Thomasville's exclusive networking opportunity to connect with peers in the business community.
X-ALT-DESC;FMTTYPE=text/html:<span style="color: rgb(5\, 5\, 5)\; font-family: &quot\;Segoe UI Historic&quot\;\, &quot\;Segoe UI&quot\;\, Helvetica\, Arial\, sans-serif\; font-size: 15px\;">Previously known as Cocktails and Commerce\, Chamber Connects is Thomasville&#39\;s exclusive networking opportunity to connect with peers in the business community.</span>
LOCATION:Whitehurst\, Blackburn & Warren
UID:e.3211.908
SEQUENCE:3
DTSTAMP:20260423T192042Z
URL:https://business.thomasvillechamber.com/events/details/chamber-connects-4-908
END:VEVENT

END:VCALENDAR
