BEGIN:VCALENDAR
VERSION:2.0
PRODID:-//ChamberMaster//Event Calendar 2.0//EN
METHOD:PUBLISH
X-PUBLISHED-TTL:P3D
REFRESH-INTERVAL:P3D
CALSCALE:GREGORIAN
BEGIN:VEVENT
DTSTART:20210715T200000Z
DTEND:20210715T220000Z
X-MICROSOFT-CDO-ALLDAYEVENT:FALSE
SUMMARY:Chamber Connects @4
DESCRIPTION:Previously Previously known as Cocktails and Commerce\, Chamber Connects is Thomasville's monthly networking opportunity to connect with peers in the business community.\n\nJoin us next Thursday from 4-6 PM and get a sneak peak of Three Tom's Tavern\, our host for July.\n\nThree Toms Tavern is a new community-oriented tavern-style bar and restaurant featuring sports enthusiast programs\, live music\, craft beers\, craft cocktails\, traditional cocktails\, and above-average tavern fare.\n\nWith a "Pool side Party" theme\, the team plans to offer drinks\, snacks and pool party music on the first floor at 112 N Broad St. Thomasville\, GA 31792.\n\nWe hope to see you there!
X-ALT-DESC;FMTTYPE=text/html:<div class="kvgmc6g5 cxmmr5t8 oygrvhab hcukyx3x c1et5uql" style="overflow-wrap: break-word\; margin: 0px\; font-family: &quot\;Segoe UI Historic&quot\;\, &quot\;Segoe UI&quot\;\, Helvetica\, Arial\, sans-serif\; color: rgb(5\, 5\, 5)\; font-size: 15px\;">Previously Previously known as Cocktails and Commerce\, Chamber Connects is Thomasville&#39\;s monthly networking opportunity to connect with peers in the business community.</div>\n\n<div class="o9v6fnle cxmmr5t8 oygrvhab hcukyx3x c1et5uql" style="overflow-wrap: break-word\; margin: 0.5em 0px 0px\; font-family: &quot\;Segoe UI Historic&quot\;\, &quot\;Segoe UI&quot\;\, Helvetica\, Arial\, sans-serif\; color: rgb(5\, 5\, 5)\; font-size: 15px\;">Join us next Thursday from 4-6 PM and get a sneak peak of Three Tom&#39\;s Tavern\, our host for July.</div>\n\n<div class="o9v6fnle cxmmr5t8 oygrvhab hcukyx3x c1et5uql" style="overflow-wrap: break-word\; margin: 0.5em 0px 0px\; font-family: &quot\;Segoe UI Historic&quot\;\, &quot\;Segoe UI&quot\;\, Helvetica\, Arial\, sans-serif\; color: rgb(5\, 5\, 5)\; font-size: 15px\;">Three Toms Tavern is a new community-oriented tavern-style bar and restaurant featuring sports enthusiast programs\, live music\, craft beers\, craft cocktails\, traditional cocktails\, and above-average tavern fare.</div>\n\n<div class="o9v6fnle cxmmr5t8 oygrvhab hcukyx3x c1et5uql" style="overflow-wrap: break-word\; margin: 0.5em 0px 0px\; font-family: &quot\;Segoe UI Historic&quot\;\, &quot\;Segoe UI&quot\;\, Helvetica\, Arial\, sans-serif\; color: rgb(5\, 5\, 5)\; font-size: 15px\;">With a &ldquo\;Pool side Party&rdquo\; theme\, the team plans to offer drinks\, snacks and pool party music on the first floor at 112 N Broad St. Thomasville\, GA 31792.</div>\n\n<div class="o9v6fnle cxmmr5t8 oygrvhab hcukyx3x c1et5uql" style="overflow-wrap: break-word\; margin: 0.5em 0px 0px\; font-family: &quot\;Segoe UI Historic&quot\;\, &quot\;Segoe UI&quot\;\, Helvetica\, Arial\, sans-serif\; color: rgb(5\, 5\, 5)\; font-size: 15px\;">We hope to see you there!</div>\n
LOCATION:Three Toms Tavern
UID:e.3211.909
SEQUENCE:3
DTSTAMP:20260423T173823Z
URL:https://business.thomasvillechamber.com/events/details/chamber-connects-4-909
END:VEVENT

END:VCALENDAR
