BEGIN:VCALENDAR
VERSION:2.0
PRODID:-//ChamberMaster//Event Calendar 2.0//EN
METHOD:PUBLISH
X-PUBLISHED-TTL:P3D
REFRESH-INTERVAL:P3D
CALSCALE:GREGORIAN
BEGIN:VEVENT
DTSTART:20210819T200000Z
DTEND:20210819T210000Z
X-MICROSOFT-CDO-ALLDAYEVENT:FALSE
SUMMARY:Chamber Connects @4
DESCRIPTION:Chamber Connects @4
X-ALT-DESC;FMTTYPE=text/html:Chamber Connects @4
LOCATION:Tallahassee Orthopedic Clinic 505 Gordon Ave Thomasville\, GA
UID:e.3211.910
SEQUENCE:3
DTSTAMP:20260423T160821Z
URL:https://business.thomasvillechamber.com/events/details/chamber-connects-4-910
END:VEVENT

END:VCALENDAR
