BEGIN:VCALENDAR
VERSION:2.0
PRODID:-//ChamberMaster//Event Calendar 2.0//EN
METHOD:PUBLISH
X-PUBLISHED-TTL:P3D
REFRESH-INTERVAL:P3D
CALSCALE:GREGORIAN
BEGIN:VEVENT
DTSTART:20211014T200000Z
DTEND:20211014T220000Z
X-MICROSOFT-CDO-ALLDAYEVENT:FALSE
SUMMARY:Chamber Connects @4
DESCRIPTION:Join us as we celebrate the 1 year anniversary of our partners at Residence at Oak Grove! They will be giving tours of the BEAUTIFUL facility as well as serving hors d'oeuvres and a selection of beverages!
X-ALT-DESC;FMTTYPE=text/html:<div style="text-align: justify\;"><span style="font-size:14px\;"><span style="font-family:verdana\;">Join us as we celebrate the 1 year anniversary of our partners at Residence at Oak Grove! They will be giving tours of the BEAUTIFUL facility as well as serving&nbsp\;<span style="color:#404040\;">hors d&#39\;oeuvres and a selection of beverages!&nbsp\;</span></span></span></div>\n
LOCATION:Residence at Oak Grove 135 Market Street Thomasville\, GA 31792
UID:e.3211.912
SEQUENCE:3
DTSTAMP:20260423T142355Z
URL:https://business.thomasvillechamber.com/events/details/chamber-connects-4-912
END:VEVENT

END:VCALENDAR
