BEGIN:VCALENDAR
VERSION:2.0
PRODID:-//ChamberMaster//Event Calendar 2.0//EN
METHOD:PUBLISH
X-PUBLISHED-TTL:P3D
REFRESH-INTERVAL:P3D
CALSCALE:GREGORIAN
BEGIN:VEVENT
DTSTART:20211118T210000Z
DTEND:20211118T220000Z
X-MICROSOFT-CDO-ALLDAYEVENT:FALSE
SUMMARY:Chamber Connects @4
DESCRIPTION:Chamber Connects @4
X-ALT-DESC;FMTTYPE=text/html:Chamber Connects @4
LOCATION:Marketing Communications 131 W Jefferson Str Boston\, GA
UID:e.3211.913
SEQUENCE:3
DTSTAMP:20260423T105938Z
URL:https://business.thomasvillechamber.com/events/details/chamber-connects-4-913
END:VEVENT

END:VCALENDAR
