BEGIN:VCALENDAR
VERSION:2.0
PRODID:-//ChamberMaster//Event Calendar 2.0//EN
METHOD:PUBLISH
X-PUBLISHED-TTL:P3D
REFRESH-INTERVAL:P3D
CALSCALE:GREGORIAN
BEGIN:VEVENT
DTSTART:20230202T163000Z
DTEND:20230202T180000Z
X-MICROSOFT-CDO-ALLDAYEVENT:FALSE
SUMMARY:Chamber Connects February '23
DESCRIPTION:Chamber Connects is our NEW Lunch and Grow Together program for business. In partnership with First Commerce Credit Union\, we are excited to host this program at Southern Regional Technical college\, Building D\, Rooms 106-107.\n\nLunch will be provided by JB crumbs.\n\nNetwork form 11:30a   12:00p.\n\nProfessional Development and lunch from 12:00-1:00p.
X-ALT-DESC;FMTTYPE=text/html:<p><span class="custom-20">Chamber Connects is our NEW Lunch and Grow Together program for business. In partnership with First Commerce Credit Union\, we are excited to host this program at Southern Regional Technical college\, Building D\, Rooms 106-107.</span></p>\n\n<p><span class="custom-20">Lunch will be provided by JB crumbs.</span></p>\n\n<p><span class="custom-20">Network form 11:30a &ndash\; 12:00p.</span></p>\n\n<p><span class="custom-20">Professional Development and lunch from 12:00-1:00p.</span></p>\n
LOCATION:Southern Regional Technical college\, Building D\, Rooms 106-107
UID:e.3211.1663
SEQUENCE:3
DTSTAMP:20260422T064302Z
URL:https://business.thomasvillechamber.com/events/details/chamber-connects-february-23-1663
END:VEVENT

END:VCALENDAR
