BEGIN:VCALENDAR
VERSION:2.0
PRODID:-//ChamberMaster//Event Calendar 2.0//EN
METHOD:PUBLISH
X-PUBLISHED-TTL:P3D
REFRESH-INTERVAL:P3D
CALSCALE:GREGORIAN
BEGIN:VEVENT
DTSTART:20231026T150000Z
DTEND:20231026T170000Z
X-MICROSOFT-CDO-ALLDAYEVENT:FALSE
SUMMARY:Chamber Connects - October '23
DESCRIPTION:Presented by Imagine Thomasville\, in partnership with First Commerce Credit Union\, Chamber Connects is an initiative focused on providing opportunities for professional development and relationship building for businesses.
X-ALT-DESC;FMTTYPE=text/html:Presented by Imagine Thomasville\, in partnership with First Commerce Credit Union\, Chamber Connects is an initiative focused on providing opportunities for professional development and relationship building for businesses.
LOCATION:Southern Regional Technical College 15689 US-19 N Building D Rooms 106-107 Thomasville\, GA 31792
UID:e.3211.1661
SEQUENCE:3
DTSTAMP:20260421T180556Z
URL:https://business.thomasvillechamber.com/events/details/chamber-connects-october-23-1661
END:VEVENT

END:VCALENDAR
