BEGIN:VCALENDAR
VERSION:2.0
PRODID:-//ChamberMaster//Event Calendar 2.0//EN
METHOD:PUBLISH
X-PUBLISHED-TTL:P3D
REFRESH-INTERVAL:P3D
CALSCALE:GREGORIAN
BEGIN:VEVENT
DTSTART:20211206T233000Z
DTEND:20211207T020000Z
X-MICROSOFT-CDO-ALLDAYEVENT:FALSE
SUMMARY:Christmas Parade
DESCRIPTION:The Annual Thomasville Downtown Christmas Parade is held on the first Monday in December. Every year the Thomasville YMCA and Thomasville-Thomas County Recreation Department host and coordinate the parade which is set to begin at 6:30 pm. Thomasville YMCA/Thomas County Recreation looks forward to this event each year and feels that it is a great Thomasville tradition. We thank you again for your participation in helping us to have a successful parade.
X-ALT-DESC;FMTTYPE=text/html:<span style="color: rgb(53\, 58\, 68)\; font-family: Montserrat\, sans-serif\; font-size: 16px\; background-color: rgb(255\, 255\, 255)\;">The Annual Thomasville Downtown Christmas Parade is held on the first Monday in December. Every year the Thomasville YMCA and Thomasville-Thomas County Recreation Department host and coordinate the parade which is set to begin at 6:30 pm. Thomasville YMCA/Thomas County Recreation looks forward to this event each year and feels that it is a great Thomasville tradition. We thank you again for your participation in helping us to have a successful parade.</span>
LOCATION:Downtown Thomasville\, East Jackson Street\, Thomasville\, GA
UID:e.3211.966
SEQUENCE:3
DTSTAMP:20260423T091407Z
URL:https://business.thomasvillechamber.com/events/details/christmas-parade-966
END:VEVENT

END:VCALENDAR
