BEGIN:VCALENDAR
VERSION:2.0
PRODID:-//ChamberMaster//Event Calendar 2.0//EN
METHOD:PUBLISH
X-PUBLISHED-TTL:P3D
REFRESH-INTERVAL:P3D
CALSCALE:GREGORIAN
BEGIN:VEVENT
DTSTART;VALUE=DATE:20180923
DTEND;VALUE=DATE:20180924
TRANSP:TRANSPARENT
X-MICROSOFT-CDO-ALLDAYEVENT:TRUE
SUMMARY:Cinema for a Cause
DESCRIPTION:Gateway Cinemas will be hosting Cinema for a Cause to benefit United Way and Variety Children's Charity. All revenue from moive tickets and concession will be given to these charities.
X-ALT-DESC;FMTTYPE=text/html:Gateway Cinemas will be hosting Cinema for a Cause to benefit United Way and Variety Children&#39\;s Charity. All revenue from moive tickets and concession will be given to these charities.&nbsp\;
LOCATION:15082 U.S. 19\, Thomasville\, GA 31792
UID:e.3211.347
SEQUENCE:3
DTSTAMP:20260426T033218Z
URL:https://business.thomasvillechamber.com/events/details/cinema-for-a-cause-347
END:VEVENT

END:VCALENDAR
