BEGIN:VCALENDAR
VERSION:2.0
PRODID:-//ChamberMaster//Event Calendar 2.0//EN
METHOD:PUBLISH
X-PUBLISHED-TTL:P3D
REFRESH-INTERVAL:P3D
CALSCALE:GREGORIAN
BEGIN:VEVENT
DTSTART:20221025T150000Z
DTEND:20221025T220000Z
X-MICROSOFT-CDO-ALLDAYEVENT:FALSE
SUMMARY:City of Thomasville Career Fair
DESCRIPTION:The City of Thomasville will be hosting a career fair on Tuesday\, October 25th from 11AM-6 PM at the Thomas County Public Library located at 201 N. Madison St. Thomasville\, GA 31792. Learn more about their open positions at www.thomasville.org.
X-ALT-DESC;FMTTYPE=text/html:<span style="color: rgb(71\, 71\, 71)\; font-family: &quot\;Open Sans&quot\;\, sans-serif\; font-size: 15px\;">The City of Thomasville will be hosting a career fair on Tuesday\, October 25th from 11AM-6 PM at the Thomas County Public Library located at 201 N. Madison St. Thomasville\, GA 31792. Learn more about their open positions at&nbsp\;</span><a href="http://www.thomasville.org/" style="font-family: &quot\;Open Sans&quot\;\, sans-serif\; font-size: 15px\; color: rgb(87\, 130\, 134)\;" target="_blank">www.thomasville.org.</a>
LOCATION:
UID:e.3211.1637
SEQUENCE:3
DTSTAMP:20260422T152931Z
URL:https://business.thomasvillechamber.com/events/details/city-of-thomasville-career-fair-1637
END:VEVENT

END:VCALENDAR
