BEGIN:VCALENDAR
VERSION:2.0
PRODID:-//ChamberMaster//Event Calendar 2.0//EN
METHOD:PUBLISH
X-PUBLISHED-TTL:P3D
REFRESH-INTERVAL:P3D
CALSCALE:GREGORIAN
BEGIN:VEVENT
DTSTART:20210313T143000Z
DTEND:20210313T210000Z
X-MICROSOFT-CDO-ALLDAYEVENT:FALSE
SUMMARY:Clays for Strays
DESCRIPTION:The Thomasville Thomas County Humane Society invites you to Clays for Strays\, our annual sporting clays  tournament! Proceeds will support the operational needs of our shelter and allow us to continue caring  for the lost\, homeless\, abused\, and abandoned pets in our community.\n\nAll skill levels welcome! Ticket price includes 5 Stand Competition\, Hi-Lo House Skeet  Competition\, Lunch\, Raffle Ticket\, T-Shirt or hat. Bonus Games will be available\, including Long Shot Bird\,  Flurry Challenge\, and Pistol Scratch Challenge!\n\nRain or shine\, meet us at the Ranges at Oakfield on Saturday\, March 13th for some rootin'-tootin' fun to support TTCHS!\n\n9:30 a.m. - Registration for First Flight Shooters and Games\n\n10:00 a.m. - Shooting Begins\n\n12:00 p.m. - Catered Lunch\n\n4:00 p.m. - Awards and Prizes\n\n\n\nIndividual shooter: $125\n\nSponsorship opportunities available - see website to sign up\n\nwww.https://www.thomasvillehumane.org/clays
X-ALT-DESC;FMTTYPE=text/html:<p style="margin: 0px 0px 1rem\; overflow-wrap: break-word\; color: rgb(0\, 0\, 0)\; font-family: omnes-pro\; font-size: 17.6px\; white-space: pre-wrap\;">The Thomasville Thomas County Humane Society invites you to Clays for Strays\, our annual sporting clays&nbsp\; tournament! Proceeds will support the operational needs of our shelter and allow us to continue caring&nbsp\; for the lost\, homeless\, abused\, and abandoned pets in our community.</p>\n\n<p style="margin: 1rem 0px\; overflow-wrap: break-word\; color: rgb(0\, 0\, 0)\; font-family: omnes-pro\; font-size: 17.6px\; white-space: pre-wrap\;">All skill levels welcome! Ticket price includes 5 Stand Competition\, Hi-Lo House Skeet&nbsp\; Competition\, Lunch\, Raffle Ticket\, T-Shirt or hat. Bonus Games will be available\, including Long Shot Bird\,&nbsp\; Flurry Challenge\, and Pistol Scratch Challenge!</p>\n\n<p style="margin: 1rem 0px\; overflow-wrap: break-word\; color: rgb(0\, 0\, 0)\; font-family: omnes-pro\; font-size: 17.6px\; white-space: pre-wrap\;">Rain or shine\, meet us at the Ranges at Oakfield on Saturday\, March 13th for some rootin&#39\;-tootin&#39\; fun to support TTCHS!</p>\n\n<p style="margin: 1rem 0px 0px\; overflow-wrap: break-word\; color: rgb(0\, 0\, 0)\; font-family: omnes-pro\; font-size: 17.6px\; white-space: pre-wrap\;">9:30 a.m. - Registration for First Flight Shooters and Games<br style="overflow-wrap: break-word\;" />\n10:00 a.m. - Shooting Begins<br style="overflow-wrap: break-word\;" />\n12:00 p.m. - Catered Lunch<br style="overflow-wrap: break-word\;" />\n4:00 p.m. - Awards and Prizes<br />\n<br />\nIndividual shooter: $125<br />\nSponsorship opportunities available - see website to sign up<br />\nwww.https://www.thomasvillehumane.org/clays<br />\n&nbsp\;</p>\n
LOCATION:
UID:e.3211.905
SEQUENCE:3
DTSTAMP:20260424T003414Z
URL:https://business.thomasvillechamber.com/events/details/clays-for-strays-905
END:VEVENT

END:VCALENDAR
