BEGIN:VCALENDAR
VERSION:2.0
PRODID:-//ChamberMaster//Event Calendar 2.0//EN
METHOD:PUBLISH
X-PUBLISHED-TTL:P3D
REFRESH-INTERVAL:P3D
CALSCALE:GREGORIAN
BEGIN:VEVENT
DTSTART;VALUE=DATE:20220326
DTEND;VALUE=DATE:20220327
TRANSP:TRANSPARENT
X-MICROSOFT-CDO-ALLDAYEVENT:TRUE
SUMMARY:Clays for Strays - Thomasville Humane Society
DESCRIPTION:Join us for our annual sporting clays tournament! Proceeds will support the operational needs of our shelter and allow us to continue caring for the lost\, homeless\, abused\, and abandoned pets in our community!
X-ALT-DESC;FMTTYPE=text/html:Join us for our annual sporting clays tournament! Proceeds will support the operational needs of our shelter and allow us to continue caring for the lost\, homeless\, abused\, and abandoned pets in our community!
LOCATION:
UID:e.3211.986
SEQUENCE:3
DTSTAMP:20260423T034247Z
URL:https://business.thomasvillechamber.com/events/details/clays-for-strays-thomasville-humane-society-986
END:VEVENT

END:VCALENDAR
