BEGIN:VCALENDAR
VERSION:2.0
PRODID:-//ChamberMaster//Event Calendar 2.0//EN
METHOD:PUBLISH
X-PUBLISHED-TTL:P3D
REFRESH-INTERVAL:P3D
CALSCALE:GREGORIAN
BEGIN:VEVENT
DTSTART:20190718T210000Z
DTEND:20190718T230000Z
X-MICROSOFT-CDO-ALLDAYEVENT:FALSE
SUMMARY:Cocktails & Commerce hosted by Brookwood School
DESCRIPTION:Please join us for Cocktails & Commerce! There will be beer and wine\, hors d?oeuvres\, door prizes and lots of networking! \n\n\n\nCocktails & Commerce is held on the third Thursday of every month except in December.
X-ALT-DESC;FMTTYPE=text/html:<p><span style="box-sizing: content-box\; bottom: auto\; clear: none\; color: rgb(75\, 79\, 86)\; content: normal\; direction: inherit\; empty-cells: show\; font-variant-numeric: inherit\; font-variant-east-asian: inherit\; font-stretch: inherit\; font-size: 14px\; font-family: Helvetica\, Arial\, sans-serif\; left: auto\; line-height: inherit\; margin: 0px\; max-height: none\; max-width: none\; min-height: initial\; min-width: initial\; opacity: 1\; outline-offset: 0px\; overflow: visible\; padding: 0px\; position: static\; resize: none\; right: auto\; table-layout: auto\; text-overflow: clip\; top: auto\; vertical-align: baseline\; visibility: inherit\; word-break: inherit\; word-wrap: inherit\; z-index: auto\; background: none rgb(243\, 243\, 243)\; border: none\; border-collapse: separate\; border-radius: 0px\; height: auto\; width: auto\; box-shadow: none\;">Please join us for Cocktails &amp\; Commerce! There will be beer and wine\, hors d?oeuvres\, door prizes and lots of networking!&nbsp\;</span><br>\n<br style="box-sizing: content-box\; bottom: auto\; clear: none\; color: rgb(75\, 79\, 86)\; content: normal\; direction: inherit\; display: inline\; empty-cells: show\; float: none\; font-variant-numeric: inherit\; font-variant-east-asian: inherit\; font-stretch: inherit\; font-size: 14px\; font-family: Helvetica\, Arial\, sans-serif\; left: auto\; line-height: inherit\; margin: 0px\; max-height: none\; max-width: none\; min-height: initial\; min-width: initial\; opacity: 1\; outline-offset: 0px\; overflow: visible\; padding: 0px\; position: static\; resize: none\; right: auto\; table-layout: auto\; text-overflow: clip\; top: auto\; vertical-align: baseline\; visibility: inherit\; word-break: inherit\; word-wrap: inherit\; z-index: auto\; background: none rgb(243\, 243\, 243)\; border: none\; border-collapse: separate\; border-radius: 0px\; height: auto\; width: auto\;">\n<span style="box-sizing: content-box\; bottom: auto\; clear: none\; color: rgb(75\, 79\, 86)\; content: normal\; direction: inherit\; empty-cells: show\; font-variant-numeric: inherit\; font-variant-east-asian: inherit\; font-stretch: inherit\; font-size: 14px\; font-family: Helvetica\, Arial\, sans-serif\; left: auto\; line-height: inherit\; margin: 0px\; max-height: none\; max-width: none\; min-height: initial\; min-width: initial\; opacity: 1\; outline-offset: 0px\; overflow: visible\; padding: 0px\; position: static\; resize: none\; right: auto\; table-layout: auto\; text-overflow: clip\; top: auto\; vertical-align: baseline\; visibility: inherit\; word-break: inherit\; word-wrap: inherit\; z-index: auto\; background: none rgb(243\, 243\, 243)\; border: none\; border-collapse: separate\; border-radius: 0px\; height: auto\; width: auto\; box-shadow: none\;">Cocktails &amp\; Commerce is held on the third Thursday of every month except in December.</span></p>\n
LOCATION:Brookwood School 301 Cardinal Ridge Rd Thomasville\, GA 31792
UID:e.3211.486
SEQUENCE:3
DTSTAMP:20260425T111230Z
URL:https://business.thomasvillechamber.com/events/details/cocktails-commerce-hosted-by-brookwood-school-486
END:VEVENT

END:VCALENDAR
