BEGIN:VCALENDAR
VERSION:2.0
PRODID:-//ChamberMaster//Event Calendar 2.0//EN
METHOD:PUBLISH
X-PUBLISHED-TTL:P3D
REFRESH-INTERVAL:P3D
CALSCALE:GREGORIAN
BEGIN:VEVENT
DTSTART:20200507T210000Z
DTEND:20200507T230000Z
X-MICROSOFT-CDO-ALLDAYEVENT:FALSE
SUMMARY:Cocktails & Commerce hosted by KeySouth Real Estate Group - CANCELLED
DESCRIPTION:Please join us for this special Cinco De Mayo themed Cocktails & Commerce hosted by KeySouth Real Estate Group! There will be beer and wine\, hors d'oeuvres\, door prizes and lots of networking!
X-ALT-DESC;FMTTYPE=text/html:Please join us for this special Cinco De Mayo themed Cocktails &amp\; Commerce hosted by KeySouth Real Estate Group! There will be beer and wine\, hors d&rsquo\;oeuvres\, door prizes and lots of networking!&nbsp\;
LOCATION:401 E. Jackson Street
UID:e.3211.868
SEQUENCE:3
DTSTAMP:20260424T181801Z
URL:https://business.thomasvillechamber.com/events/details/cocktails-commerce-hosted-by-keysouth-real-estate-group-cancelled-868
END:VEVENT

END:VCALENDAR
