BEGIN:VCALENDAR
VERSION:2.0
PRODID:-//ChamberMaster//Event Calendar 2.0//EN
METHOD:PUBLISH
X-PUBLISHED-TTL:P3D
REFRESH-INTERVAL:P3D
CALSCALE:GREGORIAN
BEGIN:VEVENT
DTSTART:20200416T210000Z
DTEND:20200416T230000Z
X-MICROSOFT-CDO-ALLDAYEVENT:FALSE
SUMMARY:Cocktails & Commerce hosted by Tallahassee Orthopedic Clinic - CANCELLED
DESCRIPTION:Please join us for Cocktails & Commerce hosted by Tallahassee Othopedic Clinic! There will be beer and wine\, hors d'oeuvres\, door prizes and lots of networking! \n\n\n\nCocktails & Commerce is held on the third Thursday of every month except in December.
X-ALT-DESC;FMTTYPE=text/html:Please join us for Cocktails &amp\; Commerce hosted by Tallahassee Othopedic Clinic! There will be beer and wine\, hors d&rsquo\;oeuvres\, door prizes and lots of networking!&nbsp\;<br />\n<br />\nCocktails &amp\; Commerce is held on the third Thursday of every month except in December.
LOCATION:505 Gordon Avenue
UID:e.3211.866
SEQUENCE:3
DTSTAMP:20260424T200338Z
URL:https://business.thomasvillechamber.com/events/details/cocktails-commerce-hosted-by-tallahassee-orthopedic-clinic-cancelled-866
END:VEVENT

END:VCALENDAR
