BEGIN:VCALENDAR
VERSION:2.0
PRODID:-//ChamberMaster//Event Calendar 2.0//EN
METHOD:PUBLISH
X-PUBLISHED-TTL:P3D
REFRESH-INTERVAL:P3D
CALSCALE:GREGORIAN
BEGIN:VEVENT
DTSTART:20180922T000000Z
DTEND:20180922T010000Z
X-MICROSOFT-CDO-ALLDAYEVENT:FALSE
SUMMARY:Coffee & Conversations with Senator David Purdue
DESCRIPTION:Senator Perdue will be touring southwest Georgia and meeting with citizens in different communities. This would be an opportunity to meet David\, hear about specifics in Washington that impact rural America\, and share a little about Thomasville/Thomas County's businesses.\n\n \n\nDisclaimer: The Chamber of Commerce  is  a non-partisan\, non-sectarian voice for business.
X-ALT-DESC;FMTTYPE=text/html:<span style="font-size:12px\;">Senator Perdue will be touring southwest Georgia and meeting with citizens in different communities. This would be an opportunity to meet David\, hear about specifics in Washington that impact rural America\, and share a little about Thomasville/Thomas County&rsquo\;s businesses.<br />\n&nbsp\;<br />\nDisclaimer:&nbsp\;<span style="font-family:calibri\,sans-serif\;">The Chamber of Commerce&nbsp\; is&nbsp\; a non-partisan\, non-sectarian voice for business.&nbsp\;&nbsp\;</span></span>
LOCATION:401 S Broad Street Thomasville\, GA 31792
UID:e.3211.497
SEQUENCE:3
DTSTAMP:20260426T032936Z
URL:https://business.thomasvillechamber.com/events/details/coffee-conversations-with-senator-david-purdue-497
END:VEVENT

END:VCALENDAR
