BEGIN:VCALENDAR
VERSION:2.0
PRODID:-//ChamberMaster//Event Calendar 2.0//EN
METHOD:PUBLISH
X-PUBLISHED-TTL:P3D
REFRESH-INTERVAL:P3D
CALSCALE:GREGORIAN
BEGIN:VEVENT
DTSTART:20220205T220000Z
DTEND:20220206T030000Z
X-MICROSOFT-CDO-ALLDAYEVENT:FALSE
SUMMARY:Comedy for a Cause
DESCRIPTION:The Foundation @ SRTC would like to announce our new fundraiser\, Comedy for a Cause! This exciting event will be held February 5\, 2022 at the Charles H. Kirbo Center in Bainbridge\, Ga. The night will begin with dinner\, drinks and a presentation honoring several distinguished SRTC alumni. Lots of laughs will follow after with an hour and a half stand-up comedy show featuring comedians Josh Sneed and Collin Moulton. All proceeds benefit the SRTC student scholarship program.
X-ALT-DESC;FMTTYPE=text/html:The Foundation @ SRTC would like to announce our new fundraiser\, Comedy for a Cause! This exciting event will be held February 5\, 2022 at the Charles H. Kirbo Center in Bainbridge\, Ga. The night will begin with dinner\, drinks and a presentation honoring several distinguished SRTC alumni. Lots of laughs will follow after with an hour and a half stand-up comedy show featuring comedians Josh Sneed and Collin Moulton. All proceeds benefit the SRTC student scholarship program.
LOCATION:Charles H. Kirbo Center 2500 East Shotwell Street\, Bainbridge\, GA 39819
UID:e.3211.973
SEQUENCE:3
DTSTAMP:20260423T052534Z
URL:https://business.thomasvillechamber.com/events/details/comedy-for-a-cause-973
END:VEVENT

END:VCALENDAR
