BEGIN:VCALENDAR
VERSION:2.0
PRODID:-//ChamberMaster//Event Calendar 2.0//EN
METHOD:PUBLISH
X-PUBLISHED-TTL:P3D
REFRESH-INTERVAL:P3D
CALSCALE:GREGORIAN
BEGIN:VEVENT
DTSTART:20211104T220000Z
DTEND:20211105T010000Z
X-MICROSOFT-CDO-ALLDAYEVENT:FALSE
SUMMARY:Community Impact Awards 2021
DESCRIPTION:The Thomasville-Thomas County Chamber of Commerce\, in partnership with Southwest Georgia Farm Credit\, seeks to recognize and celebrate business excellence\, honoring outstanding professionals in seven categories at the annual Community Impact Awards Dinner.  The award categories include Small Business of the Year\, Large Business of the Year\, Non-Profit Organization of the Year\, Man of the Year\, Woman of the Year\, The Covey Agriculture Award by Southwest Georgia Farm Credit\, and The Bob "Hutch" Hutchison Legacy Award.   \n\n\n\nNominations are NOW CLOSED!  The selection committee\, comprised of local Chamber executives\, Southwest Georgia Chamber Executives\, and the Georgia Chamber Rural Development Manager\, will review each nomination to ensure all submissions meet the awards criteria.  Only completed submissions will be reviewed. Selected winners will be contacted by the Annual Awards Selection Committee in mid-September.  Winners will be recognized and honored during the event\, scheduled for November 4\, 2021\, at the Biscuit Company. \n\n\n\nThe event will be BLACK TIE OPTIONAL.
X-ALT-DESC;FMTTYPE=text/html:The Thomasville-Thomas County Chamber of Commerce\, in partnership with Southwest Georgia Farm Credit\, seeks to recognize and celebrate business excellence\, honoring outstanding professionals in seven categories at the annual Community Impact Awards Dinner.&nbsp\; The award categories include Small Business of the Year\, Large Business of the Year\, Non-Profit Organization of the Year\, Man of the Year\, Woman of the Year\, The Covey Agriculture Award by Southwest Georgia Farm Credit\, and The Bob &ldquo\;Hutch&rdquo\; Hutchison Legacy Award.&nbsp\; &nbsp\;<br />\n<br />\nNominations are NOW CLOSED!&nbsp\; The selection committee\, comprised of local Chamber executives\, Southwest Georgia Chamber Executives\, and the Georgia Chamber Rural Development Manager\, will review each nomination to ensure all submissions meet the awards criteria.&nbsp\; Only completed submissions will be reviewed. Selected winners will be contacted by the Annual Awards Selection Committee in mid-September.&nbsp\; Winners will be recognized and honored during the event\, scheduled for November 4\, 2021\, at the Biscuit Company.&nbsp\;<br />\n<br />\nThe event will be BLACK TIE OPTIONAL.
LOCATION:
UID:e.3211.959
SEQUENCE:3
DTSTAMP:20260423T110011Z
URL:https://business.thomasvillechamber.com/events/details/community-impact-awards-2021-959
END:VEVENT

END:VCALENDAR
