BEGIN:VCALENDAR
VERSION:2.0
PRODID:-//ChamberMaster//Event Calendar 2.0//EN
METHOD:PUBLISH
X-PUBLISHED-TTL:P3D
REFRESH-INTERVAL:P3D
CALSCALE:GREGORIAN
BEGIN:VEVENT
DTSTART:20210524T180000Z
DTEND:20210524T183000Z
X-MICROSOFT-CDO-ALLDAYEVENT:FALSE
SUMMARY:Courtyard by Marriott Thomasville Ribbon Cutting Ceremony
DESCRIPTION:We hope to see you next week for the highly anticipated Courtyard by Marriott official ribbon cutting ceremony! The Ceremony will begin at 2 PM at 207 S. Dawson St. Thomasville\, GA 31792.
X-ALT-DESC;FMTTYPE=text/html:<span style="color: rgb(5\, 5\, 5)\; font-family: &quot\;Segoe UI Historic&quot\;\, &quot\;Segoe UI&quot\;\, Helvetica\, Arial\, sans-serif\; font-size: 15px\; background-color: rgb(255\, 255\, 255)\;">We hope to see you next week for the highly anticipated Courtyard by Marriott official ribbon cutting ceremony! The Ceremony will begin at 2 PM at 207 S. Dawson St. Thomasville\, GA 31792.</span>
LOCATION:
UID:e.3211.923
SEQUENCE:3
DTSTAMP:20260423T205834Z
URL:https://business.thomasvillechamber.com/events/details/courtyard-by-marriott-thomasville-ribbon-cutting-ceremony-923
END:VEVENT

END:VCALENDAR
