BEGIN:VCALENDAR
VERSION:2.0
PRODID:-//ChamberMaster//Event Calendar 2.0//EN
METHOD:PUBLISH
X-PUBLISHED-TTL:P3D
REFRESH-INTERVAL:P3D
CALSCALE:GREGORIAN
BEGIN:VEVENT
DTSTART:20181009T213000Z
DTEND:20181010T003000Z
X-MICROSOFT-CDO-ALLDAYEVENT:FALSE
SUMMARY:Covey Film Festival: Inventing Tomorrow Screening
DESCRIPTION:Teenage innovators from around the world struggle to confront global environmental dangers and the normal trepidations involved in adolescence. Their individual projects and journeys culminate at the largest convention of high school scientists - the Intel International Science and Engineering Fair.
X-ALT-DESC;FMTTYPE=text/html:Teenage innovators from around the world struggle to confront global environmental dangers and the normal trepidations involved in adolescence. Their individual projects and journeys culminate at the largest convention of high school scientists - the Intel International Science and Engineering Fair.
LOCATION:Brookwood School\, 301 Cardinal Ridge Road
UID:e.3211.502
SEQUENCE:3
DTSTAMP:20260426T020326Z
URL:https://business.thomasvillechamber.com/events/details/covey-film-festival-inventing-tomorrow-screening-502
END:VEVENT

END:VCALENDAR
