BEGIN:VCALENDAR
VERSION:2.0
PRODID:-//ChamberMaster//Event Calendar 2.0//EN
METHOD:PUBLISH
X-PUBLISHED-TTL:P3D
REFRESH-INTERVAL:P3D
CALSCALE:GREGORIAN
BEGIN:VEVENT
DTSTART:20180927T220000Z
DTEND:20180928T010000Z
X-MICROSOFT-CDO-ALLDAYEVENT:FALSE
SUMMARY:Covey Film Festival Kickoff: Faith Under Fire Screening
DESCRIPTION:Faith Under Fire relates the true story of schoolteacher Antoinette Tuff as she faces every teacher's worst nightmare. On the day that Antoinette considered suicide\, she realized that all of her challenges had prepared her for a purpose: to save an Atlanta school under siege from a deranged killer bent on murdering the students. This event will feature a film screening of this true story and a talk from Antoinette herself.
X-ALT-DESC;FMTTYPE=text/html:Faith Under Fire relates the true story of schoolteacher Antoinette Tuff as she faces every teacher&rsquo\;s worst nightmare. On the day that Antoinette considered suicide\, she realized that all of her challenges had prepared her for a purpose: to save an Atlanta school under siege from a deranged killer bent on murdering the students. This event will feature a film screening of this true story and a talk from Antoinette herself.
LOCATION:Thomas County Schools Auditorium\, 200 N. Pinetree Boulevard
UID:e.3211.498
SEQUENCE:3
DTSTAMP:20260426T033536Z
URL:https://business.thomasvillechamber.com/events/details/covey-film-festival-kickoff-faith-under-fire-screening-498
END:VEVENT

END:VCALENDAR
