BEGIN:VCALENDAR
VERSION:2.0
PRODID:-//ChamberMaster//Event Calendar 2.0//EN
METHOD:PUBLISH
X-PUBLISHED-TTL:P3D
REFRESH-INTERVAL:P3D
CALSCALE:GREGORIAN
BEGIN:VEVENT
DTSTART:20180929T180000Z
DTEND:20180929T210000Z
X-MICROSOFT-CDO-ALLDAYEVENT:FALSE
SUMMARY:Covey Film Festival: Moonlight Screening
DESCRIPTION:A chronicle of the childhood\, adolescence\, and burgeoning adulthood of a young\, African-American\, gay man growing up in a rough neighborhood of Miami.
X-ALT-DESC;FMTTYPE=text/html:A chronicle of the childhood\, adolescence\, and burgeoning adulthood of a young\, African-American\, gay man growing up in a rough neighborhood of Miami.
LOCATION:Mitchell Young Anderson House
UID:e.3211.499
SEQUENCE:3
DTSTAMP:20260426T033356Z
URL:https://business.thomasvillechamber.com/events/details/covey-film-festival-moonlight-screening-499
END:VEVENT

END:VCALENDAR
