BEGIN:VCALENDAR
VERSION:2.0
PRODID:-//ChamberMaster//Event Calendar 2.0//EN
METHOD:PUBLISH
X-PUBLISHED-TTL:P3D
REFRESH-INTERVAL:P3D
CALSCALE:GREGORIAN
BEGIN:VEVENT
DTSTART:20181015T230000Z
DTEND:20181016T013000Z
X-MICROSOFT-CDO-ALLDAYEVENT:FALSE
SUMMARY:Covey Film Festival: Mudbound Screening
DESCRIPTION:Based on a novel by Hillary Jordan\, two men return home from World War II to work on a farm in rural Mississippi where they struggle to deal with racism and adjusting to life after war. Thomasville native and FSU doctoral candidate\, John Cable\, will facilitate a discussion on race relations post-war.
X-ALT-DESC;FMTTYPE=text/html:Based on a novel by Hillary Jordan\, two men return home from World War II to work on a farm in rural Mississippi where they struggle to deal with racism and adjusting to life after war. Thomasville native and FSU doctoral candidate\, John Cable\, will facilitate a discussion on race relations post-war.
LOCATION:Thomas University Auditorium
UID:e.3211.503
SEQUENCE:3
DTSTAMP:20260426T020208Z
URL:https://business.thomasvillechamber.com/events/details/covey-film-festival-mudbound-screening-503
END:VEVENT

END:VCALENDAR
