BEGIN:VCALENDAR
VERSION:2.0
PRODID:-//ChamberMaster//Event Calendar 2.0//EN
METHOD:PUBLISH
X-PUBLISHED-TTL:P3D
REFRESH-INTERVAL:P3D
CALSCALE:GREGORIAN
BEGIN:VEVENT
DTSTART:20181002T233000Z
DTEND:20181003T013000Z
X-MICROSOFT-CDO-ALLDAYEVENT:FALSE
SUMMARY:Covey Film Festival: Queen of the Desert Screening
DESCRIPTION:A movie set in the Victorian era screened in a Victorian house! Come watch the Queen of the Desert at the Lapham-Patterson House. The Queen of the Desert chronicles Gertrude Bell's life as a traveler\, writer\, archaeologist\, explorer\, cartographer\, and political attache for the British Empire at the dawn of the twentieth century. FSU's Dr. Peter Garretson will facilitate a discussion on Gertrude Bell's global impact.
X-ALT-DESC;FMTTYPE=text/html:A movie set in the Victorian era screened in a Victorian house! Come watch the Queen of the Desert at the Lapham-Patterson House. The Queen of the Desert chronicles Gertrude Bell&rsquo\;s life as a traveler\, writer\, archaeologist\, explorer\, cartographer\, and political attache for the British Empire at the dawn of the twentieth century. FSU&#39\;s Dr. Peter Garretson will facilitate a discussion on Gertrude Bell&#39\;s global impact.
LOCATION:Lapham-Patterson House
UID:e.3211.500
SEQUENCE:3
DTSTAMP:20260426T020332Z
URL:https://business.thomasvillechamber.com/events/details/covey-film-festival-queen-of-the-desert-screening-500
END:VEVENT

END:VCALENDAR
