BEGIN:VCALENDAR
VERSION:2.0
PRODID:-//ChamberMaster//Event Calendar 2.0//EN
METHOD:PUBLISH
X-PUBLISHED-TTL:P3D
REFRESH-INTERVAL:P3D
CALSCALE:GREGORIAN
BEGIN:VEVENT
DTSTART:20181003T180000Z
DTEND:20181003T210000Z
X-MICROSOFT-CDO-ALLDAYEVENT:FALSE
SUMMARY:Covey Film Festival: The Babushkas of Chernobyl Screening
DESCRIPTION:A portrait of a group of women who\, after the 1986 Chernobyl disaster and evacuation\, returned to the exclusion zone surrounding the nuclear power plant and have resided there\, semi-officially\, for years.
X-ALT-DESC;FMTTYPE=text/html:A portrait of a group of women who\, after the 1986 Chernobyl disaster and evacuation\, returned to the exclusion zone surrounding the nuclear power plant and have resided there\, semi-officially\, for years.
LOCATION:Boston Carnegie Library\, 250 S. Main St.\, Boston\, Georgia
UID:e.3211.501
SEQUENCE:3
DTSTAMP:20260426T033540Z
URL:https://business.thomasvillechamber.com/events/details/covey-film-festival-the-babushkas-of-chernobyl-screening-501
END:VEVENT

END:VCALENDAR
