BEGIN:VCALENDAR
VERSION:2.0
PRODID:-//ChamberMaster//Event Calendar 2.0//EN
METHOD:PUBLISH
X-PUBLISHED-TTL:P3D
REFRESH-INTERVAL:P3D
CALSCALE:GREGORIAN
BEGIN:VEVENT
DTSTART:20200110T000000Z
DTEND:20200110T010000Z
X-MICROSOFT-CDO-ALLDAYEVENT:FALSE
SUMMARY:Covey Pop-Up: "Georgia in the Air"
DESCRIPTION:Covey Film Festival Pop-Up Event presents our first screening of 2020! From the coast to the mountains and everything in between Georgia's nine regions offer well-known and off-the-beaten path gems in cities both big and small. Begin your journey by exploring "Georgia from the Air." All proceeds benefit the Thomasville Community Resource Center.
X-ALT-DESC;FMTTYPE=text/html:Covey Film Festival Pop-Up Event presents our first screening of 2020! From the coast to the mountains and everything in between Georgia&#39\;s nine regions offer well-known and off-the-beaten path gems in cities both big and small. Begin your journey by exploring &quot\;Georgia from the Air.&quot\; All proceeds benefit the Thomasville Community Resource Center.
LOCATION:1501 Millpond Road\, Thomasville\, Ga 31792 Thomas University Flower's Auditorium
UID:e.3211.841
SEQUENCE:3
DTSTAMP:20260425T025316Z
URL:https://business.thomasvillechamber.com/events/details/covey-pop-up-georgia-in-the-air-841
END:VEVENT

END:VCALENDAR
