BEGIN:VCALENDAR
VERSION:2.0
PRODID:-//ChamberMaster//Event Calendar 2.0//EN
METHOD:PUBLISH
X-PUBLISHED-TTL:P3D
REFRESH-INTERVAL:P3D
CALSCALE:GREGORIAN
BEGIN:VEVENT
DTSTART:20220329T220000Z
DTEND:20220329T230000Z
X-MICROSOFT-CDO-ALLDAYEVENT:FALSE
SUMMARY:Covid Recovery Funds
DESCRIPTION:The Thomas County Commissioners have received $4.3 million in Covid Recovery Funds. \n\nA portion of the funds can be used to assist businesses who were financially harmed during the pandemic. \n\nTwo community meetings will be held for business owners to learn more on March 15th and March 29th at 6 PM. Meetings will be held at the Thomas County Courthouse\, third floor at the Commissioners C
X-ALT-DESC;FMTTYPE=text/html:<span style="color: rgb(51\, 51\, 51)\; font-family: sans-serif\, Arial\, Verdana\, &quot\;Trebuchet MS&quot\;\; font-size: 13px\; background: white\;"><span style="color: rgb(71\, 71\, 71)\;"><span style="font-family: &quot\;open sans&quot\;\;"><span style="font-size: 11.5pt\;">The Thomas County Commissioners have received $4.3 million in Covid Recovery Funds.&nbsp\;</span></span></span></span><br style="color: rgb(51\, 51\, 51)\; font-family: sans-serif\, Arial\, Verdana\, &quot\;Trebuchet MS&quot\;\; font-size: 13px\;" />\n<span style="color: rgb(51\, 51\, 51)\; font-family: sans-serif\, Arial\, Verdana\, &quot\;Trebuchet MS&quot\;\; font-size: 13px\; background: white\;"><span style="color: rgb(71\, 71\, 71)\;"><span style="font-family: &quot\;open sans&quot\;\;"><span style="font-size: 11.5pt\;">A portion of the funds can be used to assist businesses who were financially harmed during the pandemic.&nbsp\;</span></span></span></span><br style="color: rgb(51\, 51\, 51)\; font-family: sans-serif\, Arial\, Verdana\, &quot\;Trebuchet MS&quot\;\; font-size: 13px\;" />\n<span style="color: rgb(51\, 51\, 51)\; font-family: sans-serif\, Arial\, Verdana\, &quot\;Trebuchet MS&quot\;\; font-size: 11.5pt\;"><span style="font-family: &quot\;open sans&quot\;\;"><span style="color: rgb(71\, 71\, 71)\;"><span style="background-color: white\;">Two community meetings will be held for business owners to learn more on March 15th and March 29th at 6 PM. Meetings will be held at the Thomas County Courthouse\, third floor at the Commissioners C</span></span></span></span>
LOCATION:
UID:e.3211.994
SEQUENCE:3
DTSTAMP:20260423T034107Z
URL:https://business.thomasvillechamber.com/events/details/covid-recovery-funds-994
END:VEVENT

END:VCALENDAR
