BEGIN:VCALENDAR
VERSION:2.0
PRODID:-//ChamberMaster//Event Calendar 2.0//EN
METHOD:PUBLISH
X-PUBLISHED-TTL:P3D
REFRESH-INTERVAL:P3D
CALSCALE:GREGORIAN
BEGIN:VEVENT
DTSTART:20220912T200000Z
DTEND:20220912T210000Z
X-MICROSOFT-CDO-ALLDAYEVENT:FALSE
SUMMARY:Coyoacan Ribbon Cutting Ceremony
DESCRIPTION:Join us on Monday\, September 12th @ 4:00 PM to celebrate the opening of Coyoacan downtown!\n\n116 N. Broad St. Thomasville\, GA 31792
X-ALT-DESC;FMTTYPE=text/html:<div class="m8h3af8h l7ghb35v kjdc1dyq kmwttqpk gh25dzvf" style="overflow-wrap: break-word\; margin: 0px\; font-family: &quot\;Segoe UI Historic&quot\;\, &quot\;Segoe UI&quot\;\, Helvetica\, Arial\, sans-serif\; color: rgb(5\, 5\, 5)\; font-size: 15px\;">Join us on Monday\, September 12th @ 4:00 PM to celebrate the opening of Coyoacan downtown!</div>\n\n<div class="l7ghb35v kjdc1dyq kmwttqpk gh25dzvf jikcssrz" style="overflow-wrap: break-word\; margin: 0.5em 0px 0px\; font-family: &quot\;Segoe UI Historic&quot\;\, &quot\;Segoe UI&quot\;\, Helvetica\, Arial\, sans-serif\; color: rgb(5\, 5\, 5)\; font-size: 15px\;">116 N. Broad St. Thomasville\, GA 31792</div>\n
LOCATION:
UID:e.3211.1029
SEQUENCE:3
DTSTAMP:20260422T155418Z
URL:https://business.thomasvillechamber.com/events/details/coyoacan-ribbon-cutting-ceremony-1029
END:VEVENT

END:VCALENDAR
