BEGIN:VCALENDAR
VERSION:2.0
PRODID:-//ChamberMaster//Event Calendar 2.0//EN
METHOD:PUBLISH
X-PUBLISHED-TTL:P3D
REFRESH-INTERVAL:P3D
CALSCALE:GREGORIAN
BEGIN:VEVENT
DTSTART:20231108T163000Z
DTEND:20231108T180000Z
X-MICROSOFT-CDO-ALLDAYEVENT:FALSE
SUMMARY:Defend Yourself Against the Fraud Epidemic
DESCRIPTION:Ameris\n\nBank Treasury Sales Director Nick Ferrer will educate attendees about:\n\n  Social Engineering\n\n  Email Compromise\n\n  What products and services can't protect you from \n\n  How to proactively mitigate these threats to you and your business
X-ALT-DESC;FMTTYPE=text/html:Ameris<br />\nBank Treasury Sales Director Nick Ferrer will educate attendees about:<br />\n&bull\; Social Engineering<br />\n&bull\; Email Compromise<br />\n&bull\; What products and services can&rsquo\;t protect you from&hellip\;<br />\n&bull\; How to proactively mitigate these threats to you and your business
LOCATION:Thomasville Thomas County Chamber Of Commerce 401 S Broad St\, Thomasville\, GA 31792
UID:e.3211.1684
SEQUENCE:3
DTSTAMP:20260421T161659Z
URL:https://business.thomasvillechamber.com/events/details/defend-yourself-against-the-fraud-epidemic-1684
END:VEVENT

END:VCALENDAR
